BEGIN:VCALENDAR
VERSION:2.0
PRODID:-//FNOMCeO - ECPv5.16.4//NONSGML v1.0//EN
CALSCALE:GREGORIAN
METHOD:PUBLISH
X-WR-CALNAME:FNOMCeO
X-ORIGINAL-URL:https://portale.fnomceo.it
X-WR-CALDESC:Eventi per FNOMCeO
BEGIN:VTIMEZONE
TZID:Europe/Rome
BEGIN:DAYLIGHT
TZOFFSETFROM:+0100
TZOFFSETTO:+0200
TZNAME:CEST
DTSTART:20180325T010000
END:DAYLIGHT
BEGIN:STANDARD
TZOFFSETFROM:+0200
TZOFFSETTO:+0100
TZNAME:CET
DTSTART:20181028T010000
END:STANDARD
END:VTIMEZONE
BEGIN:VEVENT
DTSTART;TZID=Europe/Rome:20181110T083000
DTEND;TZID=Europe/Rome:20181110T130000
DTSTAMP:20260425T230709
CREATED:20181031T110458Z
LAST-MODIFIED:20181031T110458Z
UID:37356-1541838600-1541854800@portale.fnomceo.it
SUMMARY:1^ Giornata stomatologica cremonese\, "Le responsabilità in odontoiatria: dalla deontologia alla giurisprudenza"
DESCRIPTION:
URL:https://portale.fnomceo.it/eventi-fnomceo/1-giornata-stomatologica-cremonese-le-responsabilita-in-odontoiatria-dalla-deontologia-alla-giurisprudenza/
LOCATION:Auditorium ex chiesa di San Vitale\, Piazza Sant'Angelo\, Cremona\, Italia
CATEGORIES:Formazione e aggiornamento
GEO:45.1310973;10.0238106
X-APPLE-STRUCTURED-LOCATION;VALUE=URI;X-ADDRESS=Auditorium ex chiesa di San Vitale Piazza Sant'Angelo Cremona Italia;X-APPLE-RADIUS=500;X-TITLE=Piazza Sant'Angelo:geo:10.0238106,45.1310973
END:VEVENT
END:VCALENDAR