BEGIN:VCALENDAR
VERSION:2.0
PRODID:-//FNOMCeO - ECPv5.16.4//NONSGML v1.0//EN
CALSCALE:GREGORIAN
METHOD:PUBLISH
X-WR-CALNAME:FNOMCeO
X-ORIGINAL-URL:https://portale.fnomceo.it
X-WR-CALDESC:Eventi per FNOMCeO
BEGIN:VTIMEZONE
TZID:Europe/Rome
BEGIN:DAYLIGHT
TZOFFSETFROM:+0100
TZOFFSETTO:+0200
TZNAME:CEST
DTSTART:20210328T010000
END:DAYLIGHT
BEGIN:STANDARD
TZOFFSETFROM:+0200
TZOFFSETTO:+0100
TZNAME:CET
DTSTART:20211031T010000
END:STANDARD
END:VTIMEZONE
BEGIN:VEVENT
DTSTART;TZID=Europe/Rome:20210528T093000
DTEND;TZID=Europe/Rome:20210529T163000
DTSTAMP:20260422T124647
CREATED:20210429T092306Z
LAST-MODIFIED:20210429T092306Z
UID:58814-1622194200-1622305800@portale.fnomceo.it
SUMMARY:“1st International Congress of Elastodontics and Functional Therapy”
DESCRIPTION:DATE E ORARI CONGRESSO\n28/29 Maggio 2021\nVenerdì ore 09.30 -13.00 / 14.00 – 17.00\nCoffee break ore 11.30 / Lunch ore 13.00 – 14.00\nSabato ore 09.30 -13.00 / 14.00 – 16.30\nCoffee break ore 11.00 / Lunch ore 13.00 – 14.00 \nAl presente Evento a numero chiuso sono stati assegnati n. 12 Crediti ECM dal Ministero della Salute per Odontoiatri\, Logopedisti\, Fisioterapisti\, Medici Chirurghi specialisti in Otorinolaringoiatria e Pediatria.
URL:https://portale.fnomceo.it/eventi-fnomceo/1st-international-congress-of-elastodontics-and-functional-therapy/
LOCATION:Bari\, The Nicolaus Hotel\, Via Cardinale Agostino Ciasca\, 27\, Bari\, 70124\, Italia
CATEGORIES:Formazione e aggiornamento,Riunioni internazionali
GEO:41.0990714;16.8547593
X-APPLE-STRUCTURED-LOCATION;VALUE=URI;X-ADDRESS=Bari The Nicolaus Hotel Via Cardinale Agostino Ciasca 27 Bari 70124 Italia;X-APPLE-RADIUS=500;X-TITLE=Via Cardinale Agostino Ciasca\, 27:geo:16.8547593,41.0990714
END:VEVENT
END:VCALENDAR