BEGIN:VCALENDAR
VERSION:2.0
PRODID:-//FNOMCeO - ECPv5.16.4//NONSGML v1.0//EN
CALSCALE:GREGORIAN
METHOD:PUBLISH
X-WR-CALNAME:FNOMCeO
X-ORIGINAL-URL:https://portale.fnomceo.it
X-WR-CALDESC:Eventi per FNOMCeO
BEGIN:VTIMEZONE
TZID:Europe/Rome
BEGIN:DAYLIGHT
TZOFFSETFROM:+0100
TZOFFSETTO:+0200
TZNAME:CEST
DTSTART:20180325T010000
END:DAYLIGHT
BEGIN:STANDARD
TZOFFSETFROM:+0200
TZOFFSETTO:+0100
TZNAME:CET
DTSTART:20181028T010000
END:STANDARD
END:VTIMEZONE
BEGIN:VEVENT
DTSTART;VALUE=DATE:20180919
DTEND;VALUE=DATE:20180921
DTSTAMP:20260426T024017
CREATED:20180416T130241Z
LAST-MODIFIED:20180416T130241Z
UID:32888-1537315200-1537487999@portale.fnomceo.it
SUMMARY:2° Congresso Nazionale “La donna e la coppia dopo l’età fertile”
DESCRIPTION:Il Congresso\, per cui sarà richiesto l’accreditamento presso il Ministero della Salute\, è rivolto principalmente a medici\, psicologi\, ostetrici\, infermieri\, biologi e farmacisti e tratterà la salute della donna e della coppia nel periodo dopo l’età fertile con un focus sull’evoluzione della salute\, della prevenzione e degli stili di vita e attraverso interventi specialistici afferenti alle aree di cardiologia\, diabetologia\, fragilità e cronicità\, geriatria\, ginecologia\, innovazione e ricerca\, malattie dell’apparato locomotore\, neurologia\, nutrizione\, oncologia\, pneumologia\, psichiatria\, reumatologia\, sonno e urologia.
URL:https://portale.fnomceo.it/eventi-fnomceo/2-congresso-nazionale-la-donna-e-la-coppia-dopo-leta-fertile/
LOCATION:Hotel Michelangelo\, Piazza Luigi di Savoia\, 6\, Milano\, Italia
GEO:45.4842657;9.2059522
X-APPLE-STRUCTURED-LOCATION;VALUE=URI;X-ADDRESS=Hotel Michelangelo Piazza Luigi di Savoia 6 Milano Italia;X-APPLE-RADIUS=500;X-TITLE=Piazza Luigi di Savoia\, 6:geo:9.2059522,45.4842657
END:VEVENT
END:VCALENDAR