BEGIN:VCALENDAR
VERSION:2.0
PRODID:-//FNOMCeO - ECPv5.16.4//NONSGML v1.0//EN
CALSCALE:GREGORIAN
METHOD:PUBLISH
X-WR-CALNAME:FNOMCeO
X-ORIGINAL-URL:https://portale.fnomceo.it
X-WR-CALDESC:Eventi per FNOMCeO
BEGIN:VTIMEZONE
TZID:Europe/Rome
BEGIN:DAYLIGHT
TZOFFSETFROM:+0100
TZOFFSETTO:+0200
TZNAME:CEST
DTSTART:20180325T010000
END:DAYLIGHT
BEGIN:STANDARD
TZOFFSETFROM:+0200
TZOFFSETTO:+0100
TZNAME:CET
DTSTART:20181028T010000
END:STANDARD
END:VTIMEZONE
BEGIN:VEVENT
DTSTART;TZID=Europe/Rome:20181018T100000
DTEND;TZID=Europe/Rome:20181020T170000
DTSTAMP:20260426T005355
CREATED:20180828T112644Z
LAST-MODIFIED:20180828T112644Z
UID:35639-1539856800-1540054800@portale.fnomceo.it
SUMMARY:20° Congresso Internazionale di Medicina Estetica
DESCRIPTION:L’Associazione Agorà-A.M.I.Est.\, Società Italiana di Medicina ad Indirizzo Estetico\, organizza per il 18\, 19 e 20 ottobre p.v. il 20° Congresso Internazionale di Medicina Estetica che si svolgerà a Milano presso il Centro Congressi Milan Marriott Hotel. \nIl congresso internazionale di medicina estetica ha la finalità di approfondire le più avanzate metodologie terapeutiche e tecniche disponibili per il proprio ambito di competenza\, cioè la prevenzione dell’invecchiamento cutaneo\, i  trattamenti delle disarmonie corporee\, il trattamento dei dismetabolismi\, delle problematiche nutrizionali con approfondimenti specialistici relativi alle altre branche mediche coinvolte nei diversi ambiti della medicina estetica. \nEvento accreditato per n. 6 crediti ECM e patrocinato da FNOMCeO. \nTutte le informazioni sul sito dedicato al Congresso.
URL:https://portale.fnomceo.it/eventi-fnomceo/20-congresso-internazionale-di-medicina-estetica/
LOCATION:Centro Congressi Milan Marriott Hotel\, Via Washington 66\, Milano\, Italia
CATEGORIES:Formazione e aggiornamento
GEO:45.461339;9.154095
X-APPLE-STRUCTURED-LOCATION;VALUE=URI;X-ADDRESS=Centro Congressi Milan Marriott Hotel Via Washington 66 Milano Italia;X-APPLE-RADIUS=500;X-TITLE=Via Washington 66:geo:9.154095,45.461339
END:VEVENT
END:VCALENDAR