BEGIN:VCALENDAR
VERSION:2.0
PRODID:-//FNOMCeO - ECPv5.16.4//NONSGML v1.0//EN
CALSCALE:GREGORIAN
METHOD:PUBLISH
X-WR-CALNAME:FNOMCeO
X-ORIGINAL-URL:https://portale.fnomceo.it
X-WR-CALDESC:Eventi per FNOMCeO
BEGIN:VTIMEZONE
TZID:Europe/Rome
BEGIN:DAYLIGHT
TZOFFSETFROM:+0100
TZOFFSETTO:+0200
TZNAME:CEST
DTSTART:20190331T010000
END:DAYLIGHT
BEGIN:STANDARD
TZOFFSETFROM:+0200
TZOFFSETTO:+0100
TZNAME:CET
DTSTART:20191027T010000
END:STANDARD
END:VTIMEZONE
BEGIN:VEVENT
DTSTART;TZID=Europe/Rome:20190403T190000
DTEND;TZID=Europe/Rome:20190403T230000
DTSTAMP:20260425T005040
CREATED:20190325T155855Z
LAST-MODIFIED:20190325T155855Z
UID:40990-1554318000-1554332400@portale.fnomceo.it
SUMMARY:La Spezia\, corso ECM "L’agopuntura: medicina del terzo millennio?"
DESCRIPTION:Nel presente incontro\, si vuole mettere in evidenza come\, sempre più\, la medicina tradizionale cinese\, qui rappresentata dall’agopuntura\, si integri con la medicina occidentale nel trattamento di patologie complesse. \nVengono confermate teorie filosofiche mediante l’utilizzo della moderna tecnologia medica (PET\, fRMN\, chimica\, biochimica) permettendo di ampliare il bagaglio terapeutico del medico nella cura dell’essere umano. \nIl corso è accreditato per 55 iscritti e dà diritto a 4 crediti ECM. L’iscrizione al corso può essere consegnata personalmente in segreteria\, tramite email (segreteria@ordinemedicisp.it) o fax (0187.509545).
URL:https://portale.fnomceo.it/eventi-fnomceo/la-spezia-corso-ecm-lagopuntura-medicina-del-terzo-millennio/
LOCATION:Omceo La Spezia\, Via Vittorio Veneto\, 165\, La Spezia\, Italia
CATEGORIES:Eventi degli Ordini,Formazione e aggiornamento
GEO:44.1099104;9.8301405
X-APPLE-STRUCTURED-LOCATION;VALUE=URI;X-ADDRESS=Omceo La Spezia Via Vittorio Veneto 165 La Spezia Italia;X-APPLE-RADIUS=500;X-TITLE=Via Vittorio Veneto\, 165:geo:9.8301405,44.1099104
END:VEVENT
END:VCALENDAR