BEGIN:VCALENDAR
VERSION:2.0
PRODID:-//FNOMCeO - ECPv5.16.4//NONSGML v1.0//EN
CALSCALE:GREGORIAN
METHOD:PUBLISH
X-WR-CALNAME:FNOMCeO
X-ORIGINAL-URL:https://portale.fnomceo.it
X-WR-CALDESC:Eventi per FNOMCeO
BEGIN:VTIMEZONE
TZID:Europe/Rome
BEGIN:DAYLIGHT
TZOFFSETFROM:+0100
TZOFFSETTO:+0200
TZNAME:CEST
DTSTART:20240331T010000
END:DAYLIGHT
BEGIN:STANDARD
TZOFFSETFROM:+0200
TZOFFSETTO:+0100
TZNAME:CET
DTSTART:20241027T010000
END:STANDARD
END:VTIMEZONE
BEGIN:VEVENT
DTSTART;TZID=Europe/Rome:20240627T080000
DTEND;TZID=Europe/Rome:20240628T170000
DTSTAMP:20260425T173656
CREATED:20240329T160217Z
LAST-MODIFIED:20240620T102209Z
UID:76840-1719475200-1719594000@portale.fnomceo.it
SUMMARY:Codroipo (UD)\, Convegno “L’Intelligenza Artificiale in Sanità tra Etica e Innovazione”
DESCRIPTION:Convegno “L’Intelligenza Artificiale in Sanità tra Etica e Innovazione”\nCodroipo (UD)\, Villa Manin\n27 – 28 giugno 2024 \nNei giorni 27 e 28 giugno\, si terrà a Codroipo il convegno “L’Intelligenza Artificiale in Sanità tra Etica e Innovazione” un evento che mira a condividere e valutare con esperti nazionali ed europei\, manager pubblici e privati\, istituzioni\, professionisti della sanità e partner tecnologici le opportunità ed i rischi nella applicazione dell’AI alla sanità nella sua potenzialità predittiva e generativa. Occorre garantire trasparenza\, equità e responsabilità nell’uso di tali tecnologie al fine di evitare possibili impatti negativi sulla società. \n\nEvento patrocinato FNOMCeO
URL:https://portale.fnomceo.it/eventi-fnomceo/codroipo-ud-convegno-lintelligenza-artificiale-in-sanita-tra-etica-e-innovazione/
LOCATION:Codroipo (UD) – Villa Manin\, Stradone Manin\, Codroipo (UD)\, Italia
CATEGORIES:Eventi patrocinati,Formazione e aggiornamento
ATTACH;FMTTYPE=image/jpeg:https://portale.fnomceo.it/wp-content/uploads/2024/03/sanita-innovazione.jpg
GEO:45.956925;13.0110696
X-APPLE-STRUCTURED-LOCATION;VALUE=URI;X-ADDRESS=Codroipo (UD) – Villa Manin Stradone Manin Codroipo (UD) Italia;X-APPLE-RADIUS=500;X-TITLE=Stradone Manin:geo:13.0110696,45.956925
END:VEVENT
BEGIN:VEVENT
DTSTART;TZID=Europe/Rome:20240628T080000
DTEND;TZID=Europe/Rome:20240629T160000
DTSTAMP:20260425T173656
CREATED:20240603T134549Z
LAST-MODIFIED:20240617T095230Z
UID:78043-1719561600-1719676800@portale.fnomceo.it
SUMMARY:Palermo\, "Gestione delle via aeree difficili"
DESCRIPTION:“Gestione delle via aeree difficili”\nPalermo\, Villa Magnisi\n28-29 giugno 2024 \nSi terrà a Palermo il corso “Gestione delle via aeree difficili”. Attraverso sessioni teoriche interattive e ” Meet the experts”\, verranno analizzate e discusse le ultime linee-guida internazionali. Workshops dedicati permetteranno l’approfondimento di tecniche avanzate quali l’utilizzo di strumenti videoendoscopici negli scenari più difficili ed il supporto degli ultrasuoni nella valutazione dell’anatomia delle vie aeree.
URL:https://portale.fnomceo.it/eventi-fnomceo/palermo-gestione-delle-via-aree-difficili/
LOCATION:Palermo\, Villa Magnisi\, Via Rosario da Partanna Padre\, 22\, Palermo\, 90146\, Italia
CATEGORIES:Eventi degli Ordini,Formazione e aggiornamento
ATTACH;FMTTYPE=image/png:https://portale.fnomceo.it/wp-content/uploads/2024/06/palermo-28-29-giugno.png
GEO:38.1705472;13.3234564
X-APPLE-STRUCTURED-LOCATION;VALUE=URI;X-ADDRESS=Palermo Villa Magnisi Via Rosario da Partanna Padre 22 Palermo 90146 Italia;X-APPLE-RADIUS=500;X-TITLE=Via Rosario da Partanna Padre\, 22:geo:13.3234564,38.1705472
END:VEVENT
END:VCALENDAR