BEGIN:VCALENDAR
VERSION:2.0
PRODID:-//FNOMCeO - ECPv5.16.4//NONSGML v1.0//EN
CALSCALE:GREGORIAN
METHOD:PUBLISH
X-WR-CALNAME:FNOMCeO
X-ORIGINAL-URL:https://portale.fnomceo.it
X-WR-CALDESC:Eventi per FNOMCeO
BEGIN:VTIMEZONE
TZID:Europe/Rome
BEGIN:DAYLIGHT
TZOFFSETFROM:+0100
TZOFFSETTO:+0200
TZNAME:CEST
DTSTART:20240331T010000
END:DAYLIGHT
BEGIN:STANDARD
TZOFFSETFROM:+0200
TZOFFSETTO:+0100
TZNAME:CET
DTSTART:20241027T010000
END:STANDARD
END:VTIMEZONE
BEGIN:VEVENT
DTSTART;TZID=Europe/Rome:20240727T090000
DTEND;TZID=Europe/Rome:20240727T130000
DTSTAMP:20260423T104628
CREATED:20240724T125358Z
LAST-MODIFIED:20240724T125358Z
UID:78950-1722070800-1722085200@portale.fnomceo.it
SUMMARY:Catania\, "Giornata del medico e dell'odontoiatra"
DESCRIPTION:“Giornata del medico e dell’odontoiatra”\nCatania\, Hotel Four Points\n27 luglio 2024 \nSi terrà il 27 luglio la “Giornata del medico e dell’odontoiatra” organizzata dall’OMCeO della provincia di Catania\, durante la quale avranno luogo il giuramento di Ippocrate per i neolaureati e la consegna della pergamena per il 50° anniversario di laurea. \nDurante l’evento verrà trasmesso un video messaggio del vicepresidente FNOMCeO Giovanni Leoni.
URL:https://portale.fnomceo.it/eventi-fnomceo/catania-giornata-del-medico-e-dellodontoiatra/
LOCATION:Catania\, Four Points by Sheraton Catania Hotel & Conference Center\, Via Antonello da Messina\, 45\, Aci Castello\, Catania\, 95021\, Italia
CATEGORIES:Eventi degli Ordini
GEO:37.5421896;15.1369283
X-APPLE-STRUCTURED-LOCATION;VALUE=URI;X-ADDRESS=Catania Four Points by Sheraton Catania Hotel & Conference Center Via Antonello da Messina 45 Aci Castello Catania 95021 Italia;X-APPLE-RADIUS=500;X-TITLE=Via Antonello da Messina\, 45:geo:15.1369283,37.5421896
END:VEVENT
END:VCALENDAR