BEGIN:VCALENDAR
VERSION:2.0
PRODID:-//FNOMCeO - ECPv5.16.4//NONSGML v1.0//EN
CALSCALE:GREGORIAN
METHOD:PUBLISH
X-WR-CALNAME:FNOMCeO
X-ORIGINAL-URL:https://portale.fnomceo.it
X-WR-CALDESC:Eventi per FNOMCeO
BEGIN:VTIMEZONE
TZID:Europe/Rome
BEGIN:DAYLIGHT
TZOFFSETFROM:+0100
TZOFFSETTO:+0200
TZNAME:CEST
DTSTART:20240331T010000
END:DAYLIGHT
BEGIN:STANDARD
TZOFFSETFROM:+0200
TZOFFSETTO:+0100
TZNAME:CET
DTSTART:20241027T010000
END:STANDARD
END:VTIMEZONE
BEGIN:VEVENT
DTSTART;TZID=Europe/Rome:20240926T080000
DTEND;TZID=Europe/Rome:20240928T190000
DTSTAMP:20260426T030311
CREATED:20240920T104500Z
LAST-MODIFIED:20240920T104500Z
UID:79752-1727337600-1727550000@portale.fnomceo.it
SUMMARY:Roma\, XII Congresso Nazionale SIICP
DESCRIPTION:XII Congresso Nazionale SIICP\nRoma\, Centro Congressi Precise House Mantegna\n26-28 settembre 2024 \nSi terrà dal 26 al 28 settembre il XII Congresso Nazionale SIICP\, dedicato alla crisi dei sistemi sanitari e l’evoluzione della Medicina Generale e delle Cure Primarie in Italia e in Europa. L’assistenza sanitaria è in continua evoluzione\, dovendo da un lato rispondere ai nuovi e mutevoli bisogni dei pazienti\,  dall’altro governare quel processo di innovazione tecnologica ed organizzativa trainato dalla transizione digitale\, che dovrà condurre ad un nuovo ecosistema salute\, auspicando un impatto rivoluzionario sugli aspetti organizzativi\, sulla ottimizzazione delle risorse e sulla sostenibilità dei sistemi. Sarà presente tra gli altri il presidente FNOMCeO Filippo Anelli. \n 
URL:https://portale.fnomceo.it/eventi-fnomceo/roma-xii-congresso-nazionale-siicp/
LOCATION:Roma\, Centro Congressi Precise House Mantegna\, Via Andrea Mantegna 130\, Roma\, Italia
CATEGORIES:Formazione e aggiornamento
GEO:41.8527627;12.496739
X-APPLE-STRUCTURED-LOCATION;VALUE=URI;X-ADDRESS=Roma Centro Congressi Precise House Mantegna Via Andrea Mantegna 130 Roma Italia;X-APPLE-RADIUS=500;X-TITLE=Via Andrea Mantegna 130:geo:12.496739,41.8527627
END:VEVENT
BEGIN:VEVENT
DTSTART;TZID=Europe/Rome:20240927T083000
DTEND;TZID=Europe/Rome:20240928T183000
DTSTAMP:20260426T030311
CREATED:20240628T152225Z
LAST-MODIFIED:20240628T152225Z
UID:78453-1727425800-1727548200@portale.fnomceo.it
SUMMARY:Foggia\, XXXIV Giornate Odontoiatriche Daune
DESCRIPTION:“XXXIV Giornate Odontoiatriche Daune”\nFoggia\, Formedil Foggia\n27-28 settembre 2024 \nSi terrà a Foggia la 34esima edizione delle Giornate Odontoiatriche Daune\, dal titolo “L’evoluzione delle tecniche e dei materiali in conservativa per una terapia di qualità\, biologicamente sostenibile\, predicibile\, accessibile”. \nLa preiscrizione è obbligatoria\, può essere effettuata esclusivamente tramite codice QR oppure collegandosi al link: https://tinyurl.com/OMCeOFG
URL:https://portale.fnomceo.it/eventi-fnomceo/foggia-xxxiv-giornate-odontoiatriche-daune/
LOCATION:Foggia\, Formedil CPT Foggia\, Via Napoli km 3\,8\, Foggia\, Italia
CATEGORIES:Eventi degli Ordini,Formazione e aggiornamento
ATTACH;FMTTYPE=image/png:https://portale.fnomceo.it/wp-content/uploads/2024/06/giornate-daune.png
ORGANIZER;CN="OMCeO%20Foggia":MAILTO:omceofg@omceofg.it
GEO:41.4441285;15.5026719
X-APPLE-STRUCTURED-LOCATION;VALUE=URI;X-ADDRESS=Foggia Formedil CPT Foggia Via Napoli km 38 Foggia Italia;X-APPLE-RADIUS=500;X-TITLE=Via Napoli km 3\,8:geo:15.5026719,41.4441285
END:VEVENT
BEGIN:VEVENT
DTSTART;TZID=Europe/Rome:20240927T140000
DTEND;TZID=Europe/Rome:20240928T170000
DTSTAMP:20260426T030311
CREATED:20240926T144119Z
LAST-MODIFIED:20240926T144119Z
UID:79840-1727445600-1727542800@portale.fnomceo.it
SUMMARY:Cagliari\, "Congresso Regionale SIMG Sardegna"
DESCRIPTION:“Congresso Regionale SIMG Sardegna”\nCagliari\, Holiday Inn\n27 – 28 settembre 2024 \nSi terrà presso l’hotel Holiday Inn il “Congresso Regionale SIMG Sardegna”. Durante i lavori congressuali verranno affrontate diverse tematiche\, spaziando dalla prevenzione e promozione della salute\, alla gestione delle criticità riguardanti le principali cronicità che affrontiamo nei nostri studi. \n\nEvento patrocinato FNOMCeO
URL:https://portale.fnomceo.it/eventi-fnomceo/cagliari-congresso-regionale-simg-sardegna/
LOCATION:Cagliari\, Holiday Inn\, Viale Umberto Ticca 23\, Cagliari\, 09122\, Italia
CATEGORIES:Eventi patrocinati,Formazione e aggiornamento
GEO:39.2586518;9.0926391
X-APPLE-STRUCTURED-LOCATION;VALUE=URI;X-ADDRESS=Cagliari Holiday Inn Viale Umberto Ticca 23 Cagliari 09122 Italia;X-APPLE-RADIUS=500;X-TITLE=Viale Umberto Ticca 23:geo:9.0926391,39.2586518
END:VEVENT
BEGIN:VEVENT
DTSTART;TZID=Europe/Rome:20240928T080000
DTEND;TZID=Europe/Rome:20240928T140000
DTSTAMP:20260426T030311
CREATED:20240917T090122Z
LAST-MODIFIED:20240917T090122Z
UID:79625-1727510400-1727532000@portale.fnomceo.it
SUMMARY:Pescara\, "Aggiornamento in radioprotezione per medici e odontoiatri"
DESCRIPTION:“Aggiornamento in radioprotezione per medici e odontoiatri”\nPescara\, Auditorium Petruzzi\n28 settembre 2024 \nSi terrà il 28 settembre l’evento ECM dal titolo “Aggiornamento in radioprotezione per medici e odontoiatri”\, durante il quale si affronteranno temi specifici legati alla sicurezza radiologica\, con particolare attenzione alle normative introdotte dal D.Lgs. 101/2020. L’obiettivo generale dell’evento è aggiornare i professionisti su come le normative e le tecnologie emergenti\, come l’intelligenza artificiale\, possono migliorare la radioprotezione e l’appropriatezza delle pratiche diagnostiche.
URL:https://portale.fnomceo.it/eventi-fnomceo/pescara-aggiornamento-in-radioprotezione-per-medici-e-odontoiatri/
LOCATION:Pescara\, Auditorium Petruzzi\, Via delle Caserme\, 60\, Pescara\, Italia
CATEGORIES:Eventi degli Ordini,Formazione e aggiornamento
ATTACH;FMTTYPE=image/png:https://portale.fnomceo.it/wp-content/uploads/2024/09/radioprotezione-pescara-1.png
GEO:42.461625;14.2120069
X-APPLE-STRUCTURED-LOCATION;VALUE=URI;X-ADDRESS=Pescara Auditorium Petruzzi Via delle Caserme 60 Pescara Italia;X-APPLE-RADIUS=500;X-TITLE=Via delle Caserme\, 60:geo:14.2120069,42.461625
END:VEVENT
BEGIN:VEVENT
DTSTART;TZID=Europe/Rome:20240928T083000
DTEND;TZID=Europe/Rome:20240928T170000
DTSTAMP:20260426T030311
CREATED:20240731T153734Z
LAST-MODIFIED:20240731T153734Z
UID:79014-1727512200-1727542800@portale.fnomceo.it
SUMMARY:Brescia\, "Adolescenza: i segno della sofferenza psichica. Il bilancio di salute e il passaggio di cura."
DESCRIPTION:“Adolescenza: i segno della sofferenza psichica. Il bilancio di salute e il passaggio di cura.”\nBrescia\, Sede dell’Ordine\n28 settembre 2024 \nSi terrà il 28 settembre\, presso la sede dell’ordine\, il convegno “Adolescenza: i segno della sofferenza psichica. Il bilancio di salute e il passaggio di cura.”\, durante il quale si affronteranno tematiche legate a fragilità e cronicità durante il periodo adolescenziale. \nL’evento è rivolto in via prioritaria a medici\, odontoiatri\, farmacisti e infermieri ma è anche aperto a tutta la popolazione in streaming collegandosi al link https://attendee.gotowebinar.com/register/7520864482851227232. \nPer iscriversi all’evento in presenza – residenziale (100 posti ECM disponibili)\nPer iscriversi all’evento a distanza – FAD sincrona (500 posti ECM disponibili) \nÈ concessa l’iscrizione ad una sola delle due opzioni (in presenza o a distanza).
URL:https://portale.fnomceo.it/eventi-fnomceo/brescia-adolescenza-i-segno-della-sofferenza-psichica-il-bilancio-di-salute-e-il-passaggio-di-cura/
LOCATION:Brescia\, Sala Conferenze Ordine Medici Chirurghi e Odontoiatri\, Via Lamarmora 167\, brescia\, Italia
CATEGORIES:Eventi degli Ordini,Formazione e aggiornamento
ORGANIZER;CN="OMCeO%20Brescia":MAILTO:ufficiostampa@ordinemedici.brescia.it
GEO:45.5216359;10.2127118
X-APPLE-STRUCTURED-LOCATION;VALUE=URI;X-ADDRESS=Brescia Sala Conferenze Ordine Medici Chirurghi e Odontoiatri Via Lamarmora 167 brescia Italia;X-APPLE-RADIUS=500;X-TITLE=Via Lamarmora 167:geo:10.2127118,45.5216359
END:VEVENT
BEGIN:VEVENT
DTSTART;TZID=Europe/Rome:20240928T090000
DTEND;TZID=Europe/Rome:20240928T130000
DTSTAMP:20260426T030311
CREATED:20240620T091442Z
LAST-MODIFIED:20240620T124212Z
UID:78337-1727514000-1727528400@portale.fnomceo.it
SUMMARY:Udine\, “Interferenti endocrini\, una grave minaccia per la salute. Il ruolo del medico e dell’odontoiatra”
DESCRIPTION: “Interferenti endocrini\, una grave minaccia per la salute. Il ruolo del medico e dell’odontoiatra”\nUdine\, Hotel La di Moret\n28 settembre 2024 \nSi terrà ad Udine il convegno “Interferenti endocrini\, una grave minaccia per la salute. Il ruolo del medico e dell’odontoiatra”. Gli Interferenti Endocrini (EDC\, Endocrine Disrupting Chemicals)\, sono contaminanti ambientali che alterano la funzione del sistema endocrino\, ed è quindi fondamentale studiarne gli effetti e comprenderne la pericolosità. \n\nEvento patrocinato FNOMCeO
URL:https://portale.fnomceo.it/eventi-fnomceo/udine-interferenti-endocrini-una-grave-minaccia-per-la-salute-il-ruolo-del-medico-e-dellodontoiatra/
LOCATION:Udine\, Hotel La di Moret\, Viale Tricesimo 276\, Udine\, Italia
CATEGORIES:Eventi degli Ordini,Eventi patrocinati,Formazione e aggiornamento
ATTACH;FMTTYPE=image/jpeg:https://portale.fnomceo.it/wp-content/uploads/2020/12/udine-omceo.jpg
GEO:46.0979574;13.2304337
X-APPLE-STRUCTURED-LOCATION;VALUE=URI;X-ADDRESS=Udine Hotel La di Moret Viale Tricesimo 276 Udine Italia;X-APPLE-RADIUS=500;X-TITLE=Viale Tricesimo 276:geo:13.2304337,46.0979574
END:VEVENT
BEGIN:VEVENT
DTSTART;TZID=Europe/Rome:20240928T090000
DTEND;TZID=Europe/Rome:20240928T163000
DTSTAMP:20260426T030311
CREATED:20240711T081457Z
LAST-MODIFIED:20240916T122854Z
UID:78637-1727514000-1727541000@portale.fnomceo.it
SUMMARY:Trento\, “Medico o Robot? La medicina digitale tra presente e futuro”
DESCRIPTION:Convegno “Medico o Robot? La medicina digitale tra presente e futuro”\nTrento\, Aula Grande FBK\n28 settembre 2024 \nSi terrà il 28 settembre il convegno “Medico o Robot? La medicina digitale tra presente e futuro”\, il quale ha come obiettivo quello di aprire un dibattito costruttivo per comprendere le potenzialità e le sfide che la medicina digitale presenta\, e discutere su come possiamo sfruttare al meglio queste tecnologie per creare un sistema sanitario più efficiente\, equo e accessibile a tutti. \n\nEvento patrocinato FNOMCeO
URL:https://portale.fnomceo.it/eventi-fnomceo/trento-medico-o-robot-la-medicina-digitale-tra-presente-e-futuro/
LOCATION:Trento\, Aula Grande FBK\, Via Santa Croce 77\, Trento\, Italia
CATEGORIES:Eventi degli Ordini,Eventi patrocinati,Formazione e aggiornamento
ATTACH;FMTTYPE=image/png:https://portale.fnomceo.it/wp-content/uploads/2024/07/medicorobot2024.png
GEO:46.0628853;11.1240398
X-APPLE-STRUCTURED-LOCATION;VALUE=URI;X-ADDRESS=Trento Aula Grande FBK Via Santa Croce 77 Trento Italia;X-APPLE-RADIUS=500;X-TITLE=Via Santa Croce 77:geo:11.1240398,46.0628853
END:VEVENT
END:VCALENDAR