BEGIN:VCALENDAR
VERSION:2.0
PRODID:-//FNOMCeO - ECPv5.16.4//NONSGML v1.0//EN
CALSCALE:GREGORIAN
METHOD:PUBLISH
X-WR-CALNAME:FNOMCeO
X-ORIGINAL-URL:https://portale.fnomceo.it
X-WR-CALDESC:Eventi per FNOMCeO
BEGIN:VTIMEZONE
TZID:Europe/Rome
BEGIN:DAYLIGHT
TZOFFSETFROM:+0100
TZOFFSETTO:+0200
TZNAME:CEST
DTSTART:20250330T010000
END:DAYLIGHT
BEGIN:STANDARD
TZOFFSETFROM:+0200
TZOFFSETTO:+0100
TZNAME:CET
DTSTART:20251026T010000
END:STANDARD
END:VTIMEZONE
BEGIN:VEVENT
DTSTART;TZID=Europe/Rome:20250219T140000
DTEND;TZID=Europe/Rome:20250219T200000
DTSTAMP:20260423T100344
CREATED:20250203T103122Z
LAST-MODIFIED:20250203T103122Z
UID:82694-1739973600-1739995200@portale.fnomceo.it
SUMMARY:San Donato Milanese\, "Prima Giornata Lombarda di studio su Salute\, Ambiente\, Economia"
DESCRIPTION:“Prima Giornata Lombarda di studio su Salute\, Ambiente\, Economia”\nSan Donato Milanese\, Cascina Roma\n19 febbraio 2025 \nSi terrà il 19 febbraio la “Prima Giornata Lombarda di studio su Salute\, Ambiente\, Economia”\, organizzato dall’Associazione Nazionale Partigiani Cristiani. Il convegno è dedicato allo studio dell’attuale situazione ambientale in Italia e in Lombardia\, ed agli effetti degli inquinanti sulla salute.
URL:https://portale.fnomceo.it/eventi-fnomceo/san-donato-milanese-prima-giornata-lombarda-di-studio-su-salute-ambiente-economia/
LOCATION:San Donato Milanese\, Cascina Roma\, piazza delle Arti 6\, San Donato Milanese\, Italia
CATEGORIES:Formazione e aggiornamento
GEO:45.4150529;9.263945
X-APPLE-STRUCTURED-LOCATION;VALUE=URI;X-ADDRESS=San Donato Milanese Cascina Roma piazza delle Arti 6 San Donato Milanese Italia;X-APPLE-RADIUS=500;X-TITLE=piazza delle Arti 6:geo:9.263945,45.4150529
END:VEVENT
END:VCALENDAR