BEGIN:VCALENDAR
VERSION:2.0
PRODID:-//FNOMCeO - ECPv5.16.4//NONSGML v1.0//EN
CALSCALE:GREGORIAN
METHOD:PUBLISH
X-WR-CALNAME:FNOMCeO
X-ORIGINAL-URL:https://portale.fnomceo.it
X-WR-CALDESC:Eventi per FNOMCeO
BEGIN:VTIMEZONE
TZID:Europe/Rome
BEGIN:DAYLIGHT
TZOFFSETFROM:+0100
TZOFFSETTO:+0200
TZNAME:CEST
DTSTART:20250330T010000
END:DAYLIGHT
BEGIN:STANDARD
TZOFFSETFROM:+0200
TZOFFSETTO:+0100
TZNAME:CET
DTSTART:20251026T010000
END:STANDARD
END:VTIMEZONE
BEGIN:VEVENT
DTSTART;TZID=Europe/Rome:20250220T093000
DTEND;TZID=Europe/Rome:20250220T163000
DTSTAMP:20260423T112842
CREATED:20250211T144353Z
LAST-MODIFIED:20250211T144353Z
UID:82840-1740043800-1740069000@portale.fnomceo.it
SUMMARY:Roma\, "Arte e Scienza per le malattie rare. Creatività e ricerca in connessione"
DESCRIPTION:“Arte e Scienza per le malattie rare. Creatività e ricerca in connessione”\nRoma\, Istituto Superiore di Sanità\n20 febbraio 2025 \nIl 20 febbraio\, presso l’Aula Pocchiari dell’Istituto Superiore di Sanità\, si terrà il convegno dal titolo “Arte e Scienza per le malattie rare. Creatività e ricerca in connessione”\, organizzato dall’Istituto Superiore di Sanità\, dal Centro Nazionale Malattie Rare e da UNIAMO  (Federazione delle Malattie Rare)\, un evento scientifico-divulgativo sulle Health Humanities\, per mettere in luce come la contaminazione tra arti\, discipline umanistiche e scienze possa promuovere la salute.
URL:https://portale.fnomceo.it/eventi-fnomceo/roma-arte-e-scienza-per-le-malattie-rare-creativita-e-ricerca-in-connessione/
LOCATION:Istituto Superiore di Sanità\, Viale Regina Elena\, 299\, Roma\, Italia
CATEGORIES:Formazione e aggiornamento
GEO:41.9041439;12.5180599
X-APPLE-STRUCTURED-LOCATION;VALUE=URI;X-ADDRESS=Istituto Superiore di Sanità Viale Regina Elena 299 Roma Italia;X-APPLE-RADIUS=500;X-TITLE=Viale Regina Elena\, 299:geo:12.5180599,41.9041439
END:VEVENT
BEGIN:VEVENT
DTSTART;TZID=Europe/Rome:20250220T100000
DTEND;TZID=Europe/Rome:20250220T130000
DTSTAMP:20260423T112842
CREATED:20250130T094143Z
LAST-MODIFIED:20250130T094143Z
UID:82658-1740045600-1740056400@portale.fnomceo.it
SUMMARY:Roma\, "Giornata nazionale del personale sanitario e sociosanitario\, del personale assistenziale\, socioassistenziale e del volontariato"
DESCRIPTION:“Giornata nazionale del personale sanitario e sociosanitario\, del personale assistenziale\, socioassistenziale e del volontariato”\nRoma\, Santo Spirito in Sassia\n20 febbraio 2025 \nIl prossimo 20 febbraio si celebrerà la Giornata nazionale del personale sanitario\, sociosanitario\, socioassistenziale e del volontariato\, istituita per legge quale riconoscimento dell’impegno degli operatori sanitari nella tutela della salute dei cittadini. \nL’evento si terrà giovedì 20 febbraio\, dalle ore 10:00 alle 13:00\, presso le Corsie Sistine di Santo Spirito in Sassia\, Roma.
URL:https://portale.fnomceo.it/eventi-fnomceo/roma-giornata-nazionale-del-personale-sanitario-e-sociosanitario-del-personale-assistenziale-socioassistenziale-e-del-volontariato/
LOCATION:Roma\, Corsie Sistine di Santo Spirito in Sassia\, Borgo Santo Spirito 1-2\, Roma\, Italia
ATTACH;FMTTYPE=image/png:https://portale.fnomceo.it/wp-content/uploads/2025/01/Screenshot-2025-01-30-102407.png
GEO:41.9019162;12.4631308
X-APPLE-STRUCTURED-LOCATION;VALUE=URI;X-ADDRESS=Roma Corsie Sistine di Santo Spirito in Sassia Borgo Santo Spirito 1-2 Roma Italia;X-APPLE-RADIUS=500;X-TITLE=Borgo Santo Spirito 1-2:geo:12.4631308,41.9019162
END:VEVENT
END:VCALENDAR