BEGIN:VCALENDAR
VERSION:2.0
PRODID:-//FNOMCeO - ECPv5.16.4//NONSGML v1.0//EN
CALSCALE:GREGORIAN
METHOD:PUBLISH
X-WR-CALNAME:FNOMCeO
X-ORIGINAL-URL:https://portale.fnomceo.it
X-WR-CALDESC:Eventi per FNOMCeO
BEGIN:VTIMEZONE
TZID:Europe/Rome
BEGIN:DAYLIGHT
TZOFFSETFROM:+0100
TZOFFSETTO:+0200
TZNAME:CEST
DTSTART:20200329T010000
END:DAYLIGHT
BEGIN:STANDARD
TZOFFSETFROM:+0200
TZOFFSETTO:+0100
TZNAME:CET
DTSTART:20201025T010000
END:STANDARD
END:VTIMEZONE
BEGIN:VEVENT
DTSTART;TZID=Europe/Rome:20201127T080000
DTEND;TZID=Europe/Rome:20201128T170000
DTSTAMP:20260422T213618
CREATED:20201016T142733Z
LAST-MODIFIED:20201126T133430Z
UID:53981-1606464000-1606582800@portale.fnomceo.it
SUMMARY:32° Congresso Nazionale ANDID “La professione del dietista: presente e futuro scientifico\, istituzionale e professionale”
DESCRIPTION:
URL:https://portale.fnomceo.it/eventi-fnomceo/32-congresso-nazionale-andid-la-professione-del-dietista-presente-e-futuro-scientifico-istituzionale-e-professionale/
LOCATION:Web\, Italia
CATEGORIES:Formazione e aggiornamento
GEO:41.87194;12.56738
END:VEVENT
END:VCALENDAR