BEGIN:VCALENDAR
VERSION:2.0
PRODID:-//FNOMCeO - ECPv5.16.4//NONSGML v1.0//EN
CALSCALE:GREGORIAN
METHOD:PUBLISH
X-WR-CALNAME:FNOMCeO
X-ORIGINAL-URL:https://portale.fnomceo.it
X-WR-CALDESC:Eventi per FNOMCeO
BEGIN:VTIMEZONE
TZID:Europe/Rome
BEGIN:DAYLIGHT
TZOFFSETFROM:+0100
TZOFFSETTO:+0200
TZNAME:CEST
DTSTART:20210328T010000
END:DAYLIGHT
BEGIN:STANDARD
TZOFFSETFROM:+0200
TZOFFSETTO:+0100
TZNAME:CET
DTSTART:20211031T010000
END:STANDARD
END:VTIMEZONE
BEGIN:VEVENT
DTSTART;TZID=Europe/Rome:20210923T080000
DTEND;TZID=Europe/Rome:20210925T170000
DTSTAMP:20260423T122838
CREATED:20210707T121926Z
LAST-MODIFIED:20210707T121926Z
UID:60086-1632384000-1632589200@portale.fnomceo.it
SUMMARY:44° Congresso Nazionale AISD – Associazione Italiana per lo Studio del Dolore
DESCRIPTION:Il Congresso di quest’anno rappresenta sicuramente un momento di incontro particolare: il COVID ha completamente alterato tutte le nostre consuetudini e ha reso difficili i nostri percorsi\, ma non ci siamo arresi. E così abbiamo allargato i nostri interessi anche a questa terribile pandemia e alle conseguenze che ne deriveranno. Infatti l’Associazione Italiana per lo Studio del Dolore\, capitolo italiano di EFIC® e IASP®\, è da sempre impegnata nella ricerca e nello studio dei trattamenti più efficaci nella lotta al dolore e anche in questo momento non può che perseguire la sua mission. \nIl programma del nostro prossimo Congresso Nazionale 2021 è ricco di spunti interessanti per quanti sono proiettati nella cultura del dolore\, rispettando\, come sempre criteri di ricerca ed assistenziali\, nell’ambito della multidisciplinarità caratteristica della nostra Società.\nIl congresso vedrà\, infatti\, la presenza di numerose personalità\, da sempre punti di riferimento nei loro settori di competenza\, che sapranno catturare la nostra attenzione sulle novità che il mondo ci offre\, senza perdere di vista le linee guida e la pratica clinica quotidiana\, con un unico fondamentale obiettivo: la presa in carico del paziente con dolore. \n\nProf. Maria Caterina Pace\nPresidente AISD
URL:https://portale.fnomceo.it/eventi-fnomceo/44-congresso-nazionale-aisd-associazione-italiana-per-lo-studio-del-dolore/
LOCATION:Web\, Italia
CATEGORIES:Formazione e aggiornamento
GEO:41.87194;12.56738
END:VEVENT
END:VCALENDAR