BEGIN:VCALENDAR
VERSION:2.0
PRODID:-//FNOMCeO - ECPv5.16.4//NONSGML v1.0//EN
CALSCALE:GREGORIAN
METHOD:PUBLISH
X-WR-CALNAME:FNOMCeO
X-ORIGINAL-URL:https://portale.fnomceo.it
X-WR-CALDESC:Eventi per FNOMCeO
BEGIN:VTIMEZONE
TZID:Europe/Rome
BEGIN:DAYLIGHT
TZOFFSETFROM:+0100
TZOFFSETTO:+0200
TZNAME:CEST
DTSTART:20180325T010000
END:DAYLIGHT
BEGIN:STANDARD
TZOFFSETFROM:+0200
TZOFFSETTO:+0100
TZNAME:CET
DTSTART:20181028T010000
END:STANDARD
END:VTIMEZONE
BEGIN:VEVENT
DTSTART;VALUE=DATE:20180926
DTEND;VALUE=DATE:20180930
DTSTAMP:20260423T041732
CREATED:20180527T182412Z
LAST-MODIFIED:20180527T182412Z
UID:34027-1537920000-1538265599@portale.fnomceo.it
SUMMARY:81° Congresso nazionale di medicina del lavoro. La medicina del lavoro: dalla prevenzione alla promozione della salute
DESCRIPTION:In questo contesto i temi congressuali proposti riguardano aspetti di attualità per il medico del lavoro\, nella speranza che essi provochino una discussione ampia e fruttuosa. \nIl Congresso si rivolge a tutti gli operatori della prevenzione e della sicurezza nei luoghi di lavoro\, medici specialisti in medicina del lavoro\, medici competenti\, igienisti occupazionali\, ergonomi\, tecnici della prevenzione\, operatori della sanità pubblica\, responsabili dei servizi di prevenzione e protezione\, specializzandi\, dottorandi\, studenti\, e anche agli attori principali ovvero i lavoratori\, i datori di lavoro e gli amministratori che hanno interesse ad approfondire i temi presentati e discussi.
URL:https://portale.fnomceo.it/eventi-fnomceo/81-congresso-nazionale-di-medicina-del-lavoro-la-medicina-del-lavoro-dalla-prevenzione-alla-promozione-della-salute/
LOCATION:The Nicolaus Hotel\, Bari\, Italia
GEO:41.1171432;16.8718715
END:VEVENT
END:VCALENDAR