BEGIN:VCALENDAR
VERSION:2.0
PRODID:-//FNOMCeO - ECPv5.16.4//NONSGML v1.0//EN
CALSCALE:GREGORIAN
METHOD:PUBLISH
X-WR-CALNAME:FNOMCeO
X-ORIGINAL-URL:https://portale.fnomceo.it
X-WR-CALDESC:Eventi per FNOMCeO
BEGIN:VTIMEZONE
TZID:Europe/Rome
BEGIN:DAYLIGHT
TZOFFSETFROM:+0100
TZOFFSETTO:+0200
TZNAME:CEST
DTSTART:20200329T010000
END:DAYLIGHT
BEGIN:STANDARD
TZOFFSETFROM:+0200
TZOFFSETTO:+0100
TZNAME:CET
DTSTART:20201025T010000
END:STANDARD
END:VTIMEZONE
BEGIN:VEVENT
DTSTART;TZID=Europe/Rome:20200714T163000
DTEND;TZID=Europe/Rome:20200714T183000
DTSTAMP:20260422T193009
CREATED:20200625T143734Z
LAST-MODIFIED:20200713T090310Z
UID:51785-1594744200-1594751400@portale.fnomceo.it
SUMMARY:Aggressioni in sanità: nuovi percorsi strategie e responsabilità
DESCRIPTION:L’evento si svolgerà in videoconferenza su piattaforma on-line. La segreteria organizzativa invierà agli iscritti\nle modalità di accesso.\nL’iscrizione è gratuita previa iscrizione on line al sito:\nwww.events-communication.com/event/aggressioni2020
URL:https://portale.fnomceo.it/eventi-fnomceo/aggressioni-in-sanita-nuovi-percorsi-strategie-e-responsabilita/
CATEGORIES:Formazione e aggiornamento
END:VEVENT
END:VCALENDAR