BEGIN:VCALENDAR
VERSION:2.0
PRODID:-//FNOMCeO - ECPv5.16.4//NONSGML v1.0//EN
CALSCALE:GREGORIAN
METHOD:PUBLISH
X-WR-CALNAME:FNOMCeO
X-ORIGINAL-URL:https://portale.fnomceo.it
X-WR-CALDESC:Eventi per FNOMCeO
BEGIN:VTIMEZONE
TZID:Europe/Rome
BEGIN:DAYLIGHT
TZOFFSETFROM:+0100
TZOFFSETTO:+0200
TZNAME:CEST
DTSTART:20180325T010000
END:DAYLIGHT
BEGIN:STANDARD
TZOFFSETFROM:+0200
TZOFFSETTO:+0100
TZNAME:CET
DTSTART:20181028T010000
END:STANDARD
END:VTIMEZONE
BEGIN:VEVENT
DTSTART;TZID=Europe/Rome:20181008T200000
DTEND;TZID=Europe/Rome:20181008T233000
DTSTAMP:20260423T020711
CREATED:20181002T101418Z
LAST-MODIFIED:20181002T101418Z
UID:36608-1539028800-1539041400@portale.fnomceo.it
SUMMARY:Alessandria\, corso fad blended "I marcatori tumorali"
DESCRIPTION:Corso fad blended “I marcatori tumorali”\, Aula Magna del Politecnico di Torino – Sede di Alessandria (Viale Teresa Michel 5 – Alessandria) nelle serate di lunedì 8 ottobre – lunedì 15 ottobre – lunedì 22 ottobre 2018 dalle ore 20\,00 alle ore 23\,30.
URL:https://portale.fnomceo.it/eventi-fnomceo/alessandria-corso-fad-blended-i-marcatori-tumorali/2018-10-08/
LOCATION:Politecnico di Torino – Sede di Alessandria\, Viale Teresa Michel 5\, Alessandria\, Italia
ORGANIZER;CN="Omceo%20Alessandria":MAILTO:omceo@ordinemedici.al.it
GEO:44.923393;8.616382
X-APPLE-STRUCTURED-LOCATION;VALUE=URI;X-ADDRESS=Politecnico di Torino – Sede di Alessandria Viale Teresa Michel 5 Alessandria Italia;X-APPLE-RADIUS=500;X-TITLE=Viale Teresa Michel 5:geo:8.616382,44.923393
END:VEVENT
END:VCALENDAR