BEGIN:VCALENDAR
VERSION:2.0
PRODID:-//FNOMCeO - ECPv5.16.4//NONSGML v1.0//EN
CALSCALE:GREGORIAN
METHOD:PUBLISH
X-WR-CALNAME:FNOMCeO
X-ORIGINAL-URL:https://portale.fnomceo.it
X-WR-CALDESC:Eventi per FNOMCeO
BEGIN:VTIMEZONE
TZID:Europe/Rome
BEGIN:DAYLIGHT
TZOFFSETFROM:+0100
TZOFFSETTO:+0200
TZNAME:CEST
DTSTART:20190331T010000
END:DAYLIGHT
BEGIN:STANDARD
TZOFFSETFROM:+0200
TZOFFSETTO:+0100
TZNAME:CET
DTSTART:20191027T010000
END:STANDARD
END:VTIMEZONE
BEGIN:VEVENT
DTSTART;TZID=Europe/Rome:20190302T080000
DTEND;TZID=Europe/Rome:20190302T193000
DTSTAMP:20260425T144031
CREATED:20190205T150202Z
LAST-MODIFIED:20190205T150202Z
UID:39607-1551513600-1551555000@portale.fnomceo.it
SUMMARY:Alessandria\, seminario "I vaccini\, le strategie vaccinali ed il giornalismo"
DESCRIPTION:
URL:https://portale.fnomceo.it/eventi-fnomceo/alessandria-seminario-i-vaccini-le-strategie-vaccinali-ed-il-giornalismo/
LOCATION:Alessandria\, Hotel Diamante\, viale della Valletta 180\, Alessandria\, Italia
CATEGORIES:Eventi degli Ordini,Formazione e aggiornamento
ORGANIZER;CN="Omceo%20Alessandria":MAILTO:omceo@ordinemedici.al.it
GEO:44.885334;8.697697
X-APPLE-STRUCTURED-LOCATION;VALUE=URI;X-ADDRESS=Alessandria Hotel Diamante viale della Valletta 180 Alessandria Italia;X-APPLE-RADIUS=500;X-TITLE=viale della Valletta 180:geo:8.697697,44.885334
END:VEVENT
END:VCALENDAR