BEGIN:VCALENDAR
VERSION:2.0
PRODID:-//FNOMCeO - ECPv5.16.4//NONSGML v1.0//EN
CALSCALE:GREGORIAN
METHOD:PUBLISH
X-WR-CALNAME:FNOMCeO
X-ORIGINAL-URL:https://portale.fnomceo.it
X-WR-CALDESC:Eventi per FNOMCeO
BEGIN:VTIMEZONE
TZID:Europe/Rome
BEGIN:DAYLIGHT
TZOFFSETFROM:+0100
TZOFFSETTO:+0200
TZNAME:CEST
DTSTART:20190331T010000
END:DAYLIGHT
BEGIN:STANDARD
TZOFFSETFROM:+0200
TZOFFSETTO:+0100
TZNAME:CET
DTSTART:20191027T010000
END:STANDARD
END:VTIMEZONE
BEGIN:VEVENT
DTSTART;TZID=Europe/Rome:20190918T100000
DTEND;TZID=Europe/Rome:20190920T190000
DTSTAMP:20260423T153924
CREATED:20190712T140704Z
LAST-MODIFIED:20190712T140704Z
UID:43663-1568800800-1569006000@portale.fnomceo.it
SUMMARY:Ancona\, IV Congresso Nazionale SINuC
DESCRIPTION:
URL:https://portale.fnomceo.it/eventi-fnomceo/ancona-iv-congresso-nazionale-sinuc/
LOCATION:Università Politecnica delle Marche\, Via Tronto\, 10/a\, Ancona\, 60126\, Italia
CATEGORIES:Formazione e aggiornamento
GEO:43.6033943;13.4556023
X-APPLE-STRUCTURED-LOCATION;VALUE=URI;X-ADDRESS=Università Politecnica delle Marche Via Tronto 10/a Ancona 60126 Italia;X-APPLE-RADIUS=500;X-TITLE=Via Tronto\, 10/a:geo:13.4556023,43.6033943
END:VEVENT
END:VCALENDAR