BEGIN:VCALENDAR
VERSION:2.0
PRODID:-//FNOMCeO - ECPv5.16.4//NONSGML v1.0//EN
CALSCALE:GREGORIAN
METHOD:PUBLISH
X-WR-CALNAME:FNOMCeO
X-ORIGINAL-URL:https://portale.fnomceo.it
X-WR-CALDESC:Eventi per FNOMCeO
BEGIN:VTIMEZONE
TZID:Europe/Rome
BEGIN:DAYLIGHT
TZOFFSETFROM:+0100
TZOFFSETTO:+0200
TZNAME:CEST
DTSTART:20210328T010000
END:DAYLIGHT
BEGIN:STANDARD
TZOFFSETFROM:+0200
TZOFFSETTO:+0100
TZNAME:CET
DTSTART:20211031T010000
END:STANDARD
END:VTIMEZONE
BEGIN:VEVENT
DTSTART;TZID=Europe/Rome:20210126T080000
DTEND;TZID=Europe/Rome:20210126T170000
DTSTAMP:20260422T181644
CREATED:20210122T165137Z
LAST-MODIFIED:20210318T104213Z
UID:56189-1611648000-1611680400@portale.fnomceo.it
SUMMARY:Assemblea telematica su “L’impatto dell’emergenza Covid19 e la prevenzione con il vaccino”
DESCRIPTION:“Vaccini: Aspetti etici e scientifici: una corretta informazione a sostegno della  campagna vaccinale appena iniziata.” \nRelatori:\nRoberto Monaco\nEmanuele Montomoli
URL:https://portale.fnomceo.it/eventi-fnomceo/assemblea-telematica-su-limpatto-dellemergenza-covid19-e-la-prevenzione-con-il-vaccino/
LOCATION:Web\, Italia
CATEGORIES:Formazione e aggiornamento
GEO:41.87194;12.56738
END:VEVENT
END:VCALENDAR