BEGIN:VCALENDAR
VERSION:2.0
PRODID:-//FNOMCeO - ECPv5.16.4//NONSGML v1.0//EN
CALSCALE:GREGORIAN
METHOD:PUBLISH
X-WR-CALNAME:FNOMCeO
X-ORIGINAL-URL:https://portale.fnomceo.it
X-WR-CALDESC:Eventi per FNOMCeO
BEGIN:VTIMEZONE
TZID:Europe/Rome
BEGIN:DAYLIGHT
TZOFFSETFROM:+0100
TZOFFSETTO:+0200
TZNAME:CEST
DTSTART:20190331T010000
END:DAYLIGHT
BEGIN:STANDARD
TZOFFSETFROM:+0200
TZOFFSETTO:+0100
TZNAME:CET
DTSTART:20191027T010000
END:STANDARD
END:VTIMEZONE
BEGIN:VEVENT
DTSTART;TZID=Europe/Rome:20190518T090000
DTEND;TZID=Europe/Rome:20190518T140000
DTSTAMP:20260424T013538
CREATED:20190507T084409Z
LAST-MODIFIED:20190507T084409Z
UID:41721-1558170000-1558188000@portale.fnomceo.it
SUMMARY:Bari\, corso di Odontoiatria legale e delle assicurazioni\, "Gestione del rischio in Odontoiatria e prevenzione del contenzioso nello studio odontoiatrico"
DESCRIPTION:I medici odontoiatri potranno approfondire il tema della responsabilità professionale\, attraverso riflessioni legali e medico-legali\, con il fine di aggiornare il loro bagaglio professionale anche per quanto riguarda il più giusto rapporto di cura\, anche sotto il profilo contrattuale\, con il paziente. La gestione del processo di sterilizzazione e l’igiene dello studio odontoiatrico meritano un approfondimento non solo per i risvolti amministrativi e di conduzione di uno studio\, ma anche per la tutela della salute del paziente. Inoltre\, le prestazioni odontoiatriche che possono influire sulla funzione masticatoria perché estese a molti elementi dentari\, possono creare alterazioni funzionali che il medico odontoiatra deve conoscere sia ai fini del traguardo terapeutico atteso\, sia sotto il profilo del consenso per prevenire un malcontento del paziente che scaturisce dall’assenza di una preventiva o incompleta informazione.\nLa disamina di sentenze e l’esperienza dell’avvocato nell’ambito del contenzioso medico permetteranno di dedurre le possibili condotte in grado di migliorare il rapporto di cura e prevenire il reclamo del paziente\, che purtroppo poi si potrà estendere a procedimenti giudiziali.\nIn questa eventualità è necessario che siano chiari i ruoli dell’odontoiatra curante rispetto al ruolo dell’odontoiatra consulente tecnico di parte o d’ufficio\, sotto il profilo delle ulteriori responsabilità medico-legali e deontologiche. \nPer iscriversi è sufficiente inviare una mail a info@andiamoinordine.it indicando nome\,\ncognome\, indirizzo di residenza\, codice fiscale\, telefono\, professione\, e allegare copia del\nbonifico (dove previsto)\, intestato a Club AndiamoinOrdine – IBAN IT11 I033 5901 6001\n0000 0135 374
URL:https://portale.fnomceo.it/eventi-fnomceo/bari-corso-di-odontoiatria-legale-e-delle-assicurazioni-gestione-del-rischio-in-odontoiatria-e-prevenzione-del-contenzioso-nello-studio-odontoiatrico/
LOCATION:Vittoria Parc Hotel\, Via Nazionale 10/F\, Bari\, Italia
CATEGORIES:Formazione e aggiornamento
GEO:41.1538146;16.7721225
X-APPLE-STRUCTURED-LOCATION;VALUE=URI;X-ADDRESS=Vittoria Parc Hotel Via Nazionale 10/F Bari Italia;X-APPLE-RADIUS=500;X-TITLE=Via Nazionale 10/F:geo:16.7721225,41.1538146
END:VEVENT
END:VCALENDAR