BEGIN:VCALENDAR
VERSION:2.0
PRODID:-//FNOMCeO - ECPv5.16.4//NONSGML v1.0//EN
CALSCALE:GREGORIAN
METHOD:PUBLISH
X-WR-CALNAME:FNOMCeO
X-ORIGINAL-URL:https://portale.fnomceo.it
X-WR-CALDESC:Eventi per FNOMCeO
BEGIN:VTIMEZONE
TZID:Europe/Rome
BEGIN:DAYLIGHT
TZOFFSETFROM:+0100
TZOFFSETTO:+0200
TZNAME:CEST
DTSTART:20250330T010000
END:DAYLIGHT
BEGIN:STANDARD
TZOFFSETFROM:+0200
TZOFFSETTO:+0100
TZNAME:CET
DTSTART:20251026T010000
END:STANDARD
END:VTIMEZONE
BEGIN:VEVENT
DTSTART;TZID=Europe/Rome:20251115T083000
DTEND;TZID=Europe/Rome:20251115T170000
DTSTAMP:20260422T193014
CREATED:20251104T161935Z
LAST-MODIFIED:20251104T161935Z
UID:86527-1763195400-1763226000@portale.fnomceo.it
SUMMARY:Bastia d’Albenga (SV)\, “Il ben-essere interspecifico. Relazioni di cura tra uomini e animali”
DESCRIPTION:“Il ben-essere interspecifico. Relazioni di cura tra uomini e animali”.\nBastia d’Albenga\, Sala Conferenze “Matteo Gallinaro”\n15 novembre 2025 \nSi terrà sabato 15 novembre a Bastia d’Albenga\, presso la Sala Conferenze Matteo Gallinaro\, il convegno dal titolo “Il ben-essere interspecifico. Relazioni di cura tra uomini e animali”. L’evento\, a ingresso gratuito\, approfondirà il concetto di benessere interspecifico come stato di equilibrio bio-psico-sociale che nasce dalla relazione etica e consapevole tra uomo e animale. Attraverso un approccio multidisciplinare e interprofessionale\, verranno analizzati i fondamenti teorici\, scientifici ed etici delle relazioni di cura interspecifiche\, con particolare attenzione ai contesti terapeutici\, assistenziali e sociosanitari.
URL:https://portale.fnomceo.it/eventi-fnomceo/bastia-dalbenga-sv-il-ben-essere-interspecifico-relazioni-di-cura-tra-uomini-e-animali/
LOCATION:Bastia d’Albenga\, Sala Conferenze “Matteo Gallinaro”\, Regione Massaretti 30/01\, Bastia d’Albenga (SV)\, Italia
CATEGORIES:Formazione e aggiornamento
GEO:44.0617672;8.1736078
X-APPLE-STRUCTURED-LOCATION;VALUE=URI;X-ADDRESS=Bastia d’Albenga Sala Conferenze “Matteo Gallinaro” Regione Massaretti 30/01 Bastia d’Albenga (SV) Italia;X-APPLE-RADIUS=500;X-TITLE=Regione Massaretti 30/01:geo:8.1736078,44.0617672
END:VEVENT
END:VCALENDAR