BEGIN:VCALENDAR
VERSION:2.0
PRODID:-//FNOMCeO - ECPv5.16.4//NONSGML v1.0//EN
CALSCALE:GREGORIAN
METHOD:PUBLISH
X-WR-CALNAME:FNOMCeO
X-ORIGINAL-URL:https://portale.fnomceo.it
X-WR-CALDESC:Eventi per FNOMCeO
BEGIN:VTIMEZONE
TZID:Europe/Rome
BEGIN:DAYLIGHT
TZOFFSETFROM:+0100
TZOFFSETTO:+0200
TZNAME:CEST
DTSTART:20190331T010000
END:DAYLIGHT
BEGIN:STANDARD
TZOFFSETFROM:+0200
TZOFFSETTO:+0100
TZNAME:CET
DTSTART:20191027T010000
END:STANDARD
END:VTIMEZONE
BEGIN:VEVENT
DTSTART;TZID=Europe/Rome:20191116T080000
DTEND;TZID=Europe/Rome:20191116T170000
DTSTAMP:20260423T150037
CREATED:20191104T143110Z
LAST-MODIFIED:20191113T115842Z
UID:46444-1573891200-1573923600@portale.fnomceo.it
SUMMARY:Benevento\, “La dignità del medico tra autonomia\, libertà e responsabilità: a quale prezzo”
DESCRIPTION:L’evento è accreditato per 99 partecipanti Medici-Odontoiatri.\nL’iscrizione è gratuita e può essere effettuata esclusivamente sul sito web www.ordinemedicibenevento.it
URL:https://portale.fnomceo.it/eventi-fnomceo/benevento-la-dignita-del-medico-a-quale-prezzo/
LOCATION:Benevento\, Auditorium G. D’Alessandro – OMCeO Benevento\, viale Mellusi 168\, Benevento\, Italia
CATEGORIES:Eventi degli Ordini,Formazione e aggiornamento
GEO:41.1237929;14.7958667
X-APPLE-STRUCTURED-LOCATION;VALUE=URI;X-ADDRESS=Benevento Auditorium G. D’Alessandro – OMCeO Benevento viale Mellusi 168 Benevento Italia;X-APPLE-RADIUS=500;X-TITLE=viale Mellusi 168:geo:14.7958667,41.1237929
END:VEVENT
END:VCALENDAR