BEGIN:VCALENDAR
VERSION:2.0
PRODID:-//FNOMCeO - ECPv5.16.4//NONSGML v1.0//EN
CALSCALE:GREGORIAN
METHOD:PUBLISH
X-WR-CALNAME:FNOMCeO
X-ORIGINAL-URL:https://portale.fnomceo.it
X-WR-CALDESC:Eventi per FNOMCeO
BEGIN:VTIMEZONE
TZID:Europe/Rome
BEGIN:DAYLIGHT
TZOFFSETFROM:+0100
TZOFFSETTO:+0200
TZNAME:CEST
DTSTART:20190331T010000
END:DAYLIGHT
BEGIN:STANDARD
TZOFFSETFROM:+0200
TZOFFSETTO:+0100
TZNAME:CET
DTSTART:20191027T010000
END:STANDARD
END:VTIMEZONE
BEGIN:VEVENT
DTSTART;TZID=Europe/Rome:20190628T160000
DTEND;TZID=Europe/Rome:20190629T174500
DTSTAMP:20260425T131050
CREATED:20190620T105530Z
LAST-MODIFIED:20190620T105649Z
UID:43111-1561737600-1561830300@portale.fnomceo.it
SUMMARY:Bosa (OR)\, II Convegno regionale su ambiente e salute “La conoscenza è la prima forma di prevenzione” - In memoria del Dr. Vincenzo Migaleddu
DESCRIPTION:Incontro delle sezioni Regionali ISDE – Un momento di incontro\, di confronto inteso a sviluppare nei Medici Sardi una maggiore consapevolezza del rapporto ambiente e salute a partire dalla conoscenza dello stato di salute delle popolazioni che vivono nelle aree a forte impatto ambientale; collegare le tematiche salute-ambiente alle problematiche ambientali più generali del pianeta per dare strumenti di conoscenza agli operatori sanitari; creare una rete di impegno professionale che possa essere pensiero critico ma anche propositivo sulle problematiche salute-ambiente che si registrano\nin Sardegna.\nII Convegno Regionale “Ambiente e Salute” in memoria di Vincenzo Migaleddu – I cambiamenti climatici sono ormai un dato incontrovertibile insieme alle sempre più evidenti conseguenze negative che essi determinano sull’ambiente\, la salute delle persone e il fenomeno delle migrazioni\, mentre il tempo per interventi\, azioni e politiche di mitigazione si va riducendo sempre più. l’ambiente quale fonte di informazioni e di inquinamento cioè di sollecitazioni specifiche\, in grado di indurre nel nostro e in altri organismi reazioni e modifiche epigenetiche\, genetiche/genomiche e fenotipiche sufficientemente stabili\, documentate e chiarite sul piano dei meccanismi patogenetici. La prima forma di prevenzione è la conoscenza\, conosciamo attraverso l’informazione scientifica che pone le sue radici nella cultura. \n\nÈ necessaria conferma di partecipazione inviando la scheda d’iscrizione a: \nsegreteria.migaleddu@virgilio.it\ndomenico.scanu01@tiscali.it\ngiuseppevirgilio@tiscali.it\nmariofiumene@gmail.com \nPreferibilmente entro Sabato 22 Giugno.
URL:https://portale.fnomceo.it/eventi-fnomceo/bosa-or-ii-convegno-regionale-su-ambiente-e-salute-la-conoscenza-e-la-prima-forma-di-prevenzione-in-memoria-del-dr-vincenzo-migaleddu/
LOCATION:Bosa\, Istituto Istruzione Superiore G.A. Pischedda\, Viale Alghero\, Bosa\, 08013\, Italia
CATEGORIES:Formazione e aggiornamento
ATTACH;FMTTYPE=image/png:https://portale.fnomceo.it/wp-content/uploads/2019/03/isde.png
GEO:40.2973082;8.4887478
X-APPLE-STRUCTURED-LOCATION;VALUE=URI;X-ADDRESS=Bosa Istituto Istruzione Superiore G.A. Pischedda Viale Alghero Bosa 08013 Italia;X-APPLE-RADIUS=500;X-TITLE=Viale Alghero:geo:8.4887478,40.2973082
END:VEVENT
END:VCALENDAR