BEGIN:VCALENDAR
VERSION:2.0
PRODID:-//FNOMCeO - ECPv5.16.4//NONSGML v1.0//EN
CALSCALE:GREGORIAN
METHOD:PUBLISH
X-WR-CALNAME:FNOMCeO
X-ORIGINAL-URL:https://portale.fnomceo.it
X-WR-CALDESC:Eventi per FNOMCeO
BEGIN:VTIMEZONE
TZID:Europe/Rome
BEGIN:DAYLIGHT
TZOFFSETFROM:+0100
TZOFFSETTO:+0200
TZNAME:CEST
DTSTART:20200329T010000
END:DAYLIGHT
BEGIN:STANDARD
TZOFFSETFROM:+0200
TZOFFSETTO:+0100
TZNAME:CET
DTSTART:20201025T010000
END:STANDARD
END:VTIMEZONE
BEGIN:VEVENT
DTSTART;TZID=Europe/Rome:20201102T080000
DTEND;TZID=Europe/Rome:20201103T170000
DTSTAMP:20260420T101559
CREATED:20200624T144529Z
LAST-MODIFIED:20200624T145048Z
UID:51738-1604304000-1604422800@portale.fnomceo.it
SUMMARY:Brescia\, Corso di malattie tropicali e medicina internazionale
DESCRIPTION:
URL:https://portale.fnomceo.it/eventi-fnomceo/brescia-corso-di-malattie-tropicali-e-medicina-internazionale-2/
LOCATION:Medicus Mundi Italia\, Via Collebeato 26\, Brescia\, Italia
CATEGORIES:Formazione e aggiornamento
GEO:45.5661658;10.2086177
X-APPLE-STRUCTURED-LOCATION;VALUE=URI;X-ADDRESS=Medicus Mundi Italia Via Collebeato 26 Brescia Italia;X-APPLE-RADIUS=500;X-TITLE=Via Collebeato 26:geo:10.2086177,45.5661658
END:VEVENT
END:VCALENDAR