BEGIN:VCALENDAR
VERSION:2.0
PRODID:-//FNOMCeO - ECPv5.16.4//NONSGML v1.0//EN
CALSCALE:GREGORIAN
METHOD:PUBLISH
X-WR-CALNAME:FNOMCeO
X-ORIGINAL-URL:https://portale.fnomceo.it
X-WR-CALDESC:Eventi per FNOMCeO
BEGIN:VTIMEZONE
TZID:Europe/Rome
BEGIN:DAYLIGHT
TZOFFSETFROM:+0100
TZOFFSETTO:+0200
TZNAME:CEST
DTSTART:20240331T010000
END:DAYLIGHT
BEGIN:STANDARD
TZOFFSETFROM:+0200
TZOFFSETTO:+0100
TZNAME:CET
DTSTART:20241027T010000
END:STANDARD
END:VTIMEZONE
BEGIN:VEVENT
DTSTART;TZID=Europe/Rome:20240601T080000
DTEND;TZID=Europe/Rome:20240601T133000
DTSTAMP:20260422T132536
CREATED:20240426T083143Z
LAST-MODIFIED:20240426T083143Z
UID:77333-1717228800-1717248600@portale.fnomceo.it
SUMMARY:Brescia\, “I tumori ginecologici alla luce delle più recenti conoscenze: il contributo della genetica dalla diagnosi al follow-up”
DESCRIPTION: “I tumori ginecologici alla luce delle più recenti conoscenze: il contributo della genetica dalla diagnosi al follow-up”\nBrescia\, Sede dell’Ordine\n1 giugno 2024 \nSi terrà il primo giugno 2024 il corso “I tumori ginecologici alla luce delle più recenti conoscenze: il contributo della genetica dalla diagnosi al follow-up” in modalità FAD sincrona e residenziale\, presso la sala conferenze dell’OMCeO di Brescia.\nL’evento è rivolto in via prioritaria a medici\, farmacisti e infermieri ma è anche aperto a tutta la popolazione in streaming collegandosi a questo link.
URL:https://portale.fnomceo.it/eventi-fnomceo/brescia-i-tumori-ginecologici-alla-luce-delle-piu-recenti-conoscenze-il-contributo-della-genetica-dalla-diagnosi-al-follow-up/
LOCATION:Brescia\, Sala Conferenze Ordine Medici Chirurghi e Odontoiatri\, Via Lamarmora 167\, brescia\, Italia
CATEGORIES:Eventi degli Ordini,Formazione e aggiornamento
ORGANIZER;CN="OMCeO%20Brescia":MAILTO:ufficiostampa@ordinemedici.brescia.it
GEO:45.5216359;10.2127118
X-APPLE-STRUCTURED-LOCATION;VALUE=URI;X-ADDRESS=Brescia Sala Conferenze Ordine Medici Chirurghi e Odontoiatri Via Lamarmora 167 brescia Italia;X-APPLE-RADIUS=500;X-TITLE=Via Lamarmora 167:geo:10.2127118,45.5216359
END:VEVENT
END:VCALENDAR