BEGIN:VCALENDAR
VERSION:2.0
PRODID:-//FNOMCeO - ECPv5.16.4//NONSGML v1.0//EN
CALSCALE:GREGORIAN
METHOD:PUBLISH
X-WR-CALNAME:FNOMCeO
X-ORIGINAL-URL:https://portale.fnomceo.it
X-WR-CALDESC:Eventi per FNOMCeO
BEGIN:VTIMEZONE
TZID:Europe/Rome
BEGIN:DAYLIGHT
TZOFFSETFROM:+0100
TZOFFSETTO:+0200
TZNAME:CEST
DTSTART:20240331T010000
END:DAYLIGHT
BEGIN:STANDARD
TZOFFSETFROM:+0200
TZOFFSETTO:+0100
TZNAME:CET
DTSTART:20241027T010000
END:STANDARD
END:VTIMEZONE
BEGIN:VEVENT
DTSTART;TZID=Europe/Rome:20240516T190000
DTEND;TZID=Europe/Rome:20240516T230000
DTSTAMP:20260422T124736
CREATED:20240411T150858Z
LAST-MODIFIED:20240411T150858Z
UID:77001-1715886000-1715900400@portale.fnomceo.it
SUMMARY:Brescia\, "Le cure palliative in pediatria"
DESCRIPTION:“Le cure palliative in pediatria”\nBrescia\, Sala Conferenze Ordine Medici Chirurghi e Odontoiatri\n16 maggio 2024 \nSi terrà a Brescia il corso dedicato alle cure palliative in età pediatrica il 16 maggio.\nL’evento è rivolto in via prioritaria a medici\, odontoiatri e infermieri ma è anche aperto a tutta la popolazione in streaming collegandosi al link https://attendee.gotowebinar.com/register/6428412817560731992
URL:https://portale.fnomceo.it/eventi-fnomceo/brescia-le-cure-palliative-in-pediatria/
LOCATION:Brescia\, Sala Conferenze Ordine Medici Chirurghi e Odontoiatri\, Via Lamarmora 167\, brescia\, Italia
CATEGORIES:Eventi degli Ordini,Formazione e aggiornamento
ORGANIZER;CN="OMCeO%20Brescia":MAILTO:ufficiostampa@ordinemedici.brescia.it
GEO:45.5216359;10.2127118
X-APPLE-STRUCTURED-LOCATION;VALUE=URI;X-ADDRESS=Brescia Sala Conferenze Ordine Medici Chirurghi e Odontoiatri Via Lamarmora 167 brescia Italia;X-APPLE-RADIUS=500;X-TITLE=Via Lamarmora 167:geo:10.2127118,45.5216359
END:VEVENT
END:VCALENDAR