BEGIN:VCALENDAR
VERSION:2.0
PRODID:-//FNOMCeO - ECPv5.16.4//NONSGML v1.0//EN
CALSCALE:GREGORIAN
METHOD:PUBLISH
X-WR-CALNAME:FNOMCeO
X-ORIGINAL-URL:https://portale.fnomceo.it
X-WR-CALDESC:Eventi per FNOMCeO
BEGIN:VTIMEZONE
TZID:Europe/Rome
BEGIN:DAYLIGHT
TZOFFSETFROM:+0100
TZOFFSETTO:+0200
TZNAME:CEST
DTSTART:20230326T010000
END:DAYLIGHT
BEGIN:STANDARD
TZOFFSETFROM:+0200
TZOFFSETTO:+0100
TZNAME:CET
DTSTART:20231029T010000
END:STANDARD
END:VTIMEZONE
BEGIN:VEVENT
DTSTART;TZID=Europe/Rome:20230117T190000
DTEND;TZID=Europe/Rome:20230117T233000
DTSTAMP:20260424T215324
CREATED:20221229T161156Z
LAST-MODIFIED:20221229T161156Z
UID:69222-1673982000-1673998200@portale.fnomceo.it
SUMMARY:Brescia\, “ONE HEALTH: CONVIVENZA UOMO ANIMALE. UN APPROCCIO MULTIDISCIPLINARE”
DESCRIPTION:“ONE HEALTH: CONVIVENZA UOMO ANIMALE. UN APPROCCIO MULTIDISCIPLINARE” \nBrescia\, martedì 17 e martedì 24 gennaio 2023 – ore 19.00 \n  \nPer iscriversi all’evento in presenza (100 posti ECM disponibili) \nPer iscriversi all’evento in videoconferenza (100 posti ECM disponibili) \nÈ concessa l’iscrizione ad una sola delle due opzioni (in presenza o in videoconferenza) \nL’evento è rivolto in via prioritaria a medici e veterinari ma è anche aperto a tutta la popolazione in streaming collegandosi al link https://attendee.gotowebinar.com/register/7251529202257332571
URL:https://portale.fnomceo.it/eventi-fnomceo/brescia-one-health-convivenza-uomo-animale-un-approccio-multidisciplinare/2023-01-17/
LOCATION:OMCeO Brescia\, via Lamarmora 167\, Brescia\, Italia
CATEGORIES:Eventi degli Ordini,Formazione e aggiornamento
ORGANIZER;CN="OMCeO%20Brescia":MAILTO:ufficiostampa@ordinemedici.brescia.it
GEO:45.5215428;10.2127308
X-APPLE-STRUCTURED-LOCATION;VALUE=URI;X-ADDRESS=OMCeO Brescia via Lamarmora 167 Brescia Italia;X-APPLE-RADIUS=500;X-TITLE=via Lamarmora 167:geo:10.2127308,45.5215428
END:VEVENT
END:VCALENDAR