BEGIN:VCALENDAR
VERSION:2.0
PRODID:-//FNOMCeO - ECPv5.16.4//NONSGML v1.0//EN
CALSCALE:GREGORIAN
METHOD:PUBLISH
X-WR-CALNAME:FNOMCeO
X-ORIGINAL-URL:https://portale.fnomceo.it
X-WR-CALDESC:Eventi per FNOMCeO
BEGIN:VTIMEZONE
TZID:Europe/Rome
BEGIN:DAYLIGHT
TZOFFSETFROM:+0100
TZOFFSETTO:+0200
TZNAME:CEST
DTSTART:20200329T010000
END:DAYLIGHT
BEGIN:STANDARD
TZOFFSETFROM:+0200
TZOFFSETTO:+0100
TZNAME:CET
DTSTART:20201025T010000
END:STANDARD
END:VTIMEZONE
BEGIN:VEVENT
DTSTART;TZID=Europe/Rome:20200229T083000
DTEND;TZID=Europe/Rome:20200229T130000
DTSTAMP:20260422T130858
CREATED:20200127T153809Z
LAST-MODIFIED:20200127T153809Z
UID:48095-1582965000-1582981200@portale.fnomceo.it
SUMMARY:Brescia\, “Salute e persone adulte con disabilità del neurosviluppo: aspetti critici e modelli di presa in carico”
DESCRIPTION:La partecipazione al Convegno è gratuita e limitata a 100 partecipanti (n. 80 medici chirurghi di tutte le discipline e n. 20 infermieri) a cui sono stati concessi n. 4 crediti formativi ECM.\nSono altresì previsti 20 posti come uditori (no ECM) per educatori professionali\, psicologi\, logopedisti\, terapisti della neuropsicomotricità. \n  \nL’iscrizione è obbligatoria (anche come uditore) e si può effettuare compilando direttamente la scheda di iscrizione presente sul sito dell’ordine fino al raggiungimento dei posti a disposizione.
URL:https://portale.fnomceo.it/eventi-fnomceo/brescia-salute-e-persone-adulte-con-disabilita-del-neurosviluppo-aspetti-critici-e-modelli-di-presa-in-carico/
LOCATION:OMCeO Brescia\, via Lamarmora 167\, Brescia\, Italia
CATEGORIES:Eventi degli Ordini,Formazione e aggiornamento
ORGANIZER;CN="OMCeO%20Brescia":MAILTO:ufficiostampa@ordinemedici.brescia.it
GEO:45.5215428;10.2127308
X-APPLE-STRUCTURED-LOCATION;VALUE=URI;X-ADDRESS=OMCeO Brescia via Lamarmora 167 Brescia Italia;X-APPLE-RADIUS=500;X-TITLE=via Lamarmora 167:geo:10.2127308,45.5215428
END:VEVENT
END:VCALENDAR