BEGIN:VCALENDAR
VERSION:2.0
PRODID:-//FNOMCeO - ECPv5.16.4//NONSGML v1.0//EN
CALSCALE:GREGORIAN
METHOD:PUBLISH
X-WR-CALNAME:FNOMCeO
X-ORIGINAL-URL:https://portale.fnomceo.it
X-WR-CALDESC:Eventi per FNOMCeO
BEGIN:VTIMEZONE
TZID:Europe/Rome
BEGIN:DAYLIGHT
TZOFFSETFROM:+0100
TZOFFSETTO:+0200
TZNAME:CEST
DTSTART:20210328T010000
END:DAYLIGHT
BEGIN:STANDARD
TZOFFSETFROM:+0200
TZOFFSETTO:+0100
TZNAME:CET
DTSTART:20211031T010000
END:STANDARD
END:VTIMEZONE
BEGIN:VEVENT
DTSTART;TZID=Europe/Rome:20211002T083000
DTEND;TZID=Europe/Rome:20211002T130000
DTSTAMP:20260420T180555
CREATED:20210908T135927Z
LAST-MODIFIED:20210908T140008Z
UID:60894-1633163400-1633179600@portale.fnomceo.it
SUMMARY:Brescia\, “Vivere le pause. Ormoni e non solo nell'età di mezzo”
DESCRIPTION:Corso Ecm da 5.2 crediti. Partecipando al corso i discenti apprenderanno nuove competenze multidisciplinari e multiprofessionali sul tema della menopausa e andropausa e affrontato nella prospettiva della medicina di genere. Verranno analizzati non solo gli aspetti clinici di questo periodo della vita di donne e uomini\, ma anche gli aspetti socio-culturali che influiscono sullo stato di salute psico-fisica. \n\n\nUlteriori informazioni a questo link.
URL:https://portale.fnomceo.it/eventi-fnomceo/brescia-vivere-le-pause-ormoni-e-non-solo-nelleta-di-mezzo/
LOCATION:Brescia\, Istituto Artigianelli\, Via Brigida Avogadro 23\, Brescia\, Italia
CATEGORIES:Eventi degli Ordini,Formazione e aggiornamento
ORGANIZER;CN="OMCeO%20Brescia":MAILTO:ufficiostampa@ordinemedici.brescia.it
GEO:45.5391087;10.2310492
X-APPLE-STRUCTURED-LOCATION;VALUE=URI;X-ADDRESS=Brescia Istituto Artigianelli Via Brigida Avogadro 23 Brescia Italia;X-APPLE-RADIUS=500;X-TITLE=Via Brigida Avogadro 23:geo:10.2310492,45.5391087
END:VEVENT
END:VCALENDAR