BEGIN:VCALENDAR
VERSION:2.0
PRODID:-//FNOMCeO - ECPv5.16.4//NONSGML v1.0//EN
CALSCALE:GREGORIAN
METHOD:PUBLISH
X-WR-CALNAME:FNOMCeO
X-ORIGINAL-URL:https://portale.fnomceo.it
X-WR-CALDESC:Eventi per FNOMCeO
BEGIN:VTIMEZONE
TZID:Europe/Rome
BEGIN:DAYLIGHT
TZOFFSETFROM:+0100
TZOFFSETTO:+0200
TZNAME:CEST
DTSTART:20230326T010000
END:DAYLIGHT
BEGIN:STANDARD
TZOFFSETFROM:+0200
TZOFFSETTO:+0100
TZNAME:CET
DTSTART:20231029T010000
END:STANDARD
END:VTIMEZONE
BEGIN:VEVENT
DTSTART;TZID=Europe/Rome:20231005T140000
DTEND;TZID=Europe/Rome:20231007T130000
DTSTAMP:20260424T175802
CREATED:20230628T100517Z
LAST-MODIFIED:20230728T100917Z
UID:72627-1696514400-1696683600@portale.fnomceo.it
SUMMARY:Cagliari\, Convegno “The fil rouge of atherosclerosis: from brain to heart imaging” 3° Edition
DESCRIPTION:Convegno “The fil rouge of atherosclerosis: from brain to heart imaging” 3° Edition\nCagliari\, Hotel Regina Margherita\,\n5 – 7 ottobre \n  \nPOSTER AND ORAL PRESENTATION SUBMISSION DEADLINE\nSeptember 15th\, 2023 \n\nEvento organizzato con patrocinio FNOMCeO
URL:https://portale.fnomceo.it/eventi-fnomceo/cagliari-convegno-the-fil-rouge-of-atherosclerosis-from-brain-to-heart-imaging-3-edition/
LOCATION:Cagliari\, Hotel Regina Margherita\, Viale Regina Margherita\, 44\, Cagliari\, 09124\, Italia
CATEGORIES:Formazione e aggiornamento
GEO:39.2141939;9.1163472
X-APPLE-STRUCTURED-LOCATION;VALUE=URI;X-ADDRESS=Cagliari Hotel Regina Margherita Viale Regina Margherita 44 Cagliari 09124 Italia;X-APPLE-RADIUS=500;X-TITLE=Viale Regina Margherita\, 44:geo:9.1163472,39.2141939
END:VEVENT
END:VCALENDAR