BEGIN:VCALENDAR
VERSION:2.0
PRODID:-//FNOMCeO - ECPv5.16.4//NONSGML v1.0//EN
CALSCALE:GREGORIAN
METHOD:PUBLISH
X-WR-CALNAME:FNOMCeO
X-ORIGINAL-URL:https://portale.fnomceo.it
X-WR-CALDESC:Eventi per FNOMCeO
BEGIN:VTIMEZONE
TZID:Europe/Rome
BEGIN:DAYLIGHT
TZOFFSETFROM:+0100
TZOFFSETTO:+0200
TZNAME:CEST
DTSTART:20190331T010000
END:DAYLIGHT
BEGIN:STANDARD
TZOFFSETFROM:+0200
TZOFFSETTO:+0100
TZNAME:CET
DTSTART:20191027T010000
END:STANDARD
END:VTIMEZONE
BEGIN:VEVENT
DTSTART;TZID=Europe/Rome:20190405T080000
DTEND;TZID=Europe/Rome:20190405T143000
DTSTAMP:20260424T235141
CREATED:20190322T155707Z
LAST-MODIFIED:20190322T155707Z
UID:40930-1554451200-1554474600@portale.fnomceo.it
SUMMARY:Caserta\, corso di aggiornamento "Stati Generali della professione"
DESCRIPTION:
URL:https://portale.fnomceo.it/eventi-fnomceo/caserta-corso-di-aggiornamento-stati-generali-della-professione/
LOCATION:Caserta\, Auditorium Scuola Specialisti Aeronautica Militare di Caserta\, Via Ellittico\, Caserta\, Italia
CATEGORIES:Eventi degli Ordini,Formazione e aggiornamento
GEO:41.0705276;14.3244643
X-APPLE-STRUCTURED-LOCATION;VALUE=URI;X-ADDRESS=Caserta Auditorium Scuola Specialisti Aeronautica Militare di Caserta Via Ellittico Caserta Italia;X-APPLE-RADIUS=500;X-TITLE=Via Ellittico:geo:14.3244643,41.0705276
END:VEVENT
END:VCALENDAR