BEGIN:VCALENDAR
VERSION:2.0
PRODID:-//FNOMCeO - ECPv5.16.4//NONSGML v1.0//EN
CALSCALE:GREGORIAN
METHOD:PUBLISH
X-WR-CALNAME:FNOMCeO
X-ORIGINAL-URL:https://portale.fnomceo.it
X-WR-CALDESC:Eventi per FNOMCeO
BEGIN:VTIMEZONE
TZID:Europe/Rome
BEGIN:DAYLIGHT
TZOFFSETFROM:+0100
TZOFFSETTO:+0200
TZNAME:CEST
DTSTART:20240331T010000
END:DAYLIGHT
BEGIN:STANDARD
TZOFFSETFROM:+0200
TZOFFSETTO:+0100
TZNAME:CET
DTSTART:20241027T010000
END:STANDARD
END:VTIMEZONE
BEGIN:VEVENT
DTSTART;TZID=Europe/Rome:20241024T080000
DTEND;TZID=Europe/Rome:20241025T150000
DTSTAMP:20260420T032013
CREATED:20240930T143610Z
LAST-MODIFIED:20240930T143610Z
UID:80055-1729756800-1729868400@portale.fnomceo.it
SUMMARY:Caserta\, XII Simposio Scientifico Cardio Update 2024
DESCRIPTION:XII Simposio Scientifico Cardio Update 2024\nCaserta\, Grand Hotel Vanvitelli\n24 – 25 ottobre 2024 \nSi terrà a Caserta il XII Simposio Scientifico Cardio Update 2024. L’evento ha l’obiettivo di fornire un aggiornamento sui temi emergenti\, migliorare le capacità relazionali e comunicative\, fare acquisire conoscenze teoriche e pratiche sulle recenti innovazioni\, motivare il proprio paziente al proseguimento della terapia e renderlo consapevole dell’elevato rischio che comporta la non prosecuzione o avviamento della stessa. \n\nEvento patrocinato FNOMCeO
URL:https://portale.fnomceo.it/eventi-fnomceo/caserta-xii-simposio-scientifico-cardio-update-2024/
LOCATION:Caserta\, Grand Hotel Vanvitelli\, Viale Carlo III\, Caserta\, 81100\, Italia
CATEGORIES:Eventi patrocinati,Formazione e aggiornamento
GEO:41.0664131;14.3265628
X-APPLE-STRUCTURED-LOCATION;VALUE=URI;X-ADDRESS=Caserta Grand Hotel Vanvitelli Viale Carlo III Caserta 81100 Italia;X-APPLE-RADIUS=500;X-TITLE=Viale Carlo III:geo:14.3265628,41.0664131
END:VEVENT
END:VCALENDAR