BEGIN:VCALENDAR
VERSION:2.0
PRODID:-//FNOMCeO - ECPv5.16.4//NONSGML v1.0//EN
CALSCALE:GREGORIAN
METHOD:PUBLISH
X-WR-CALNAME:FNOMCeO
X-ORIGINAL-URL:https://portale.fnomceo.it
X-WR-CALDESC:Eventi per FNOMCeO
BEGIN:VTIMEZONE
TZID:Europe/Rome
BEGIN:DAYLIGHT
TZOFFSETFROM:+0100
TZOFFSETTO:+0200
TZNAME:CEST
DTSTART:20250330T010000
END:DAYLIGHT
BEGIN:STANDARD
TZOFFSETFROM:+0200
TZOFFSETTO:+0100
TZNAME:CET
DTSTART:20251026T010000
END:STANDARD
END:VTIMEZONE
BEGIN:VEVENT
DTSTART;TZID=Europe/Rome:20250524T083000
DTEND;TZID=Europe/Rome:20250524T140000
DTSTAMP:20260423T112153
CREATED:20250514T134155Z
LAST-MODIFIED:20250515T154152Z
UID:84068-1748075400-1748095200@portale.fnomceo.it
SUMMARY:Catania\, "Dal modello DAMA alle linee guida nazionali. Occasione di confronto per lo sviluppo di buone pratiche"
DESCRIPTION:“Dal modello DAMA alle linee guida nazionali. Occasione di confronto per lo sviluppo di buone pratiche”\nCatania\, Hotel NH\n24 maggio 2025 \nIl 24 maggio si terrà a Catania il convegno\, organizzato dal Ministero delle Disabilità\, dal titolo “Dal modello DAMA alle linee guida nazionali. Occasione di confronto per lo sviluppo di buone pratiche”. L’incontro sarà un’occasione di riflessione e confronto sui modelli organizzativi di assistenza sanitaria rivolti alle persone con disabilità\, con particolare attenzione all’accessibilità delle cure\, alla formazione dei professionisti e alla diffusione di buone pratiche sul territorio nazionale. Interverranno\, tra gli altri\, il presidente FNOMCeO Filippo Anelli e il segretario nazionale FNOMCeO Roberto Monaco. \nLa partecipazione è gratuita\, previa registrazione a questo link. \n\nEvento patrocinato FNOMCeO
URL:https://portale.fnomceo.it/eventi-fnomceo/catania-dal-modello-dama-alle-linee-guida-nazionali-occasione-di-confronto-per-lo-sviluppo-di-buone-pratiche/
LOCATION:Catania\, Hotel NH\, Parco degli Aragonesi\, Catania\, Italia
CATEGORIES:Formazione e aggiornamento
GEO:37.4768164;15.0827694
X-APPLE-STRUCTURED-LOCATION;VALUE=URI;X-ADDRESS=Catania Hotel NH Parco degli Aragonesi Catania Italia;X-APPLE-RADIUS=500;X-TITLE=Parco degli Aragonesi:geo:15.0827694,37.4768164
END:VEVENT
END:VCALENDAR