BEGIN:VCALENDAR
VERSION:2.0
PRODID:-//FNOMCeO - ECPv5.16.4//NONSGML v1.0//EN
CALSCALE:GREGORIAN
METHOD:PUBLISH
X-WR-CALNAME:FNOMCeO
X-ORIGINAL-URL:https://portale.fnomceo.it
X-WR-CALDESC:Eventi per FNOMCeO
BEGIN:VTIMEZONE
TZID:Europe/Rome
BEGIN:DAYLIGHT
TZOFFSETFROM:+0100
TZOFFSETTO:+0200
TZNAME:CEST
DTSTART:20180325T010000
END:DAYLIGHT
BEGIN:STANDARD
TZOFFSETFROM:+0200
TZOFFSETTO:+0100
TZNAME:CET
DTSTART:20181028T010000
END:STANDARD
END:VTIMEZONE
BEGIN:VEVENT
DTSTART;VALUE=DATE:20180505
DTEND;VALUE=DATE:20180506
DTSTAMP:20260426T055450
CREATED:20180427T070300Z
LAST-MODIFIED:20180427T070300Z
UID:33147-1525478400-1525564799@portale.fnomceo.it
SUMMARY:XIX Appuntamento "Incontri all'Ordine": La meningite batterica\, epidemiologia e gestione clinica
DESCRIPTION:L’evento è accreditato per 99 partecipanti\, medici e odontoiatri. \nL’iscrizione è gratuita e dovrà essere effettuata contattando la segreteria organizzativa o registrandosi al seguente link: ordinemedicibenevento.it. È prevista l’erogazione di 8 crediti ECM.
URL:https://portale.fnomceo.it/eventi-fnomceo/xix-appuntamento-incontri-allordine-la-meningite-batterica-epidemiologia-e-gestione-clinica/
LOCATION:Benevento\, Auditorium G. D’Alessandro – OMCeO Benevento\, viale Mellusi 168\, Benevento\, Italia
CATEGORIES:Eventi degli Ordini
GEO:41.1237929;14.7958667
X-APPLE-STRUCTURED-LOCATION;VALUE=URI;X-ADDRESS=Benevento Auditorium G. D’Alessandro – OMCeO Benevento viale Mellusi 168 Benevento Italia;X-APPLE-RADIUS=500;X-TITLE=viale Mellusi 168:geo:14.7958667,41.1237929
END:VEVENT
END:VCALENDAR