BEGIN:VCALENDAR
VERSION:2.0
PRODID:-//FNOMCeO - ECPv5.16.4//NONSGML v1.0//EN
CALSCALE:GREGORIAN
METHOD:PUBLISH
X-WR-CALNAME:FNOMCeO
X-ORIGINAL-URL:https://portale.fnomceo.it
X-WR-CALDESC:Eventi per FNOMCeO
BEGIN:VTIMEZONE
TZID:Europe/Rome
BEGIN:DAYLIGHT
TZOFFSETFROM:+0100
TZOFFSETTO:+0200
TZNAME:CEST
DTSTART:20180325T010000
END:DAYLIGHT
BEGIN:STANDARD
TZOFFSETFROM:+0200
TZOFFSETTO:+0100
TZNAME:CET
DTSTART:20181028T010000
END:STANDARD
END:VTIMEZONE
BEGIN:VEVENT
DTSTART;VALUE=DATE:20180609
DTEND;VALUE=DATE:20180610
DTSTAMP:20260426T040514
CREATED:20180429T065605Z
LAST-MODIFIED:20180429T065841Z
UID:33224-1528502400-1528588799@portale.fnomceo.it
SUMMARY:6° Congresso nazionale sulla malattia di Lyme
DESCRIPTION:L’evento\, accreditato ECM\, coinvolgerà i medici veterinari\, i biologi\, infermieri\, i medici ospedalieri\, i medici di famiglia\, al fine di sottolineare l’importanza di una corretta azione di informazione e prevenzione\, ponendo l’attenzione sulle nuove sfide in campo diagnostico e terapeutico che l’incremento della diffusione della Malattia di Lyme chiede.  \nL’ingresso è libero previa registrazione con presenza di servizio di interpretazione simultanea italiano/inglese/italiano.\n\n 
URL:https://portale.fnomceo.it/eventi-fnomceo/6-congresso-nazionale-sulla-malattia-di-lyme/
LOCATION:Auditorium Gaber – Palazzo Pirelli\, Piazza Duca D'Aosta 3\, Milano\, Italia
CATEGORIES:Eventi degli Ordini
GEO:45.4839482;9.2031185
X-APPLE-STRUCTURED-LOCATION;VALUE=URI;X-ADDRESS=Auditorium Gaber – Palazzo Pirelli Piazza Duca D'Aosta 3 Milano Italia;X-APPLE-RADIUS=500;X-TITLE=Piazza Duca D'Aosta 3:geo:9.2031185,45.4839482
END:VEVENT
END:VCALENDAR