BEGIN:VCALENDAR
VERSION:2.0
PRODID:-//FNOMCeO - ECPv5.16.4//NONSGML v1.0//EN
CALSCALE:GREGORIAN
METHOD:PUBLISH
X-WR-CALNAME:FNOMCeO
X-ORIGINAL-URL:https://portale.fnomceo.it
X-WR-CALDESC:Eventi per FNOMCeO
BEGIN:VTIMEZONE
TZID:Europe/Rome
BEGIN:DAYLIGHT
TZOFFSETFROM:+0100
TZOFFSETTO:+0200
TZNAME:CEST
DTSTART:20180325T010000
END:DAYLIGHT
BEGIN:STANDARD
TZOFFSETFROM:+0200
TZOFFSETTO:+0100
TZNAME:CET
DTSTART:20181028T010000
END:STANDARD
END:VTIMEZONE
BEGIN:VEVENT
DTSTART;VALUE=DATE:20180616
DTEND;VALUE=DATE:20180624
DTSTAMP:20260426T040508
CREATED:20180206T131936Z
LAST-MODIFIED:20180206T131936Z
UID:31379-1529107200-1529798399@portale.fnomceo.it
SUMMARY:46° Campionato italiano tennis medici
DESCRIPTION:Per l’evento sono previsti una infinità di tabelloni per tutte le età e tutti i livelli di gioco (con gare di campionato\, di contorno e tabelloni di consolazione). \nPer l’iscrizione e la prenotazione alberghiera consultare il sito web www.amti.it.
URL:https://portale.fnomceo.it/eventi-fnomceo/46-campionato-italiano-tennis-medici/
LOCATION:Circolo Grand Hotel Metropol\, Portorose\, Slovenia
CATEGORIES:Eventi degli Ordini
ORGANIZER;CN="Associazione%20medici%20tennisti%20italiani":MAILTO:paolofrugoni@tiscali.it
GEO:45.5142898;13.5908455
END:VEVENT
BEGIN:VEVENT
DTSTART;VALUE=DATE:20180623
DTEND;VALUE=DATE:20180624
DTSTAMP:20260426T040508
CREATED:20180527T141746Z
LAST-MODIFIED:20180619T063845Z
UID:34002-1529712000-1529798399@portale.fnomceo.it
SUMMARY:Riformare la deontologia medica. Proposte per un nuovo codice deontologico
DESCRIPTION:
URL:https://portale.fnomceo.it/eventi-fnomceo/riformare-la-deontologia-medica-proposte-per-un-nuovo-codice-deontologico/
LOCATION:Aula grande FBK\, via Santa Croce 77\, Trento\, Italia
CATEGORIES:Eventi degli Ordini
GEO:46.0627342;11.1244107
X-APPLE-STRUCTURED-LOCATION;VALUE=URI;X-ADDRESS=Aula grande FBK via Santa Croce 77 Trento Italia;X-APPLE-RADIUS=500;X-TITLE=via Santa Croce 77:geo:11.1244107,46.0627342
END:VEVENT
END:VCALENDAR