BEGIN:VCALENDAR
VERSION:2.0
PRODID:-//FNOMCeO - ECPv5.16.4//NONSGML v1.0//EN
CALSCALE:GREGORIAN
METHOD:PUBLISH
X-WR-CALNAME:FNOMCeO
X-ORIGINAL-URL:https://portale.fnomceo.it
X-WR-CALDESC:Eventi per FNOMCeO
BEGIN:VTIMEZONE
TZID:Europe/Rome
BEGIN:DAYLIGHT
TZOFFSETFROM:+0100
TZOFFSETTO:+0200
TZNAME:CEST
DTSTART:20180325T010000
END:DAYLIGHT
BEGIN:STANDARD
TZOFFSETFROM:+0200
TZOFFSETTO:+0100
TZNAME:CET
DTSTART:20181028T010000
END:STANDARD
END:VTIMEZONE
BEGIN:VEVENT
DTSTART;TZID=Europe/Rome:20181019T113000
DTEND;TZID=Europe/Rome:20181019T170000
DTSTAMP:20260425T212446
CREATED:20181012T135619Z
LAST-MODIFIED:20181012T135619Z
UID:36896-1539948600-1539968400@portale.fnomceo.it
SUMMARY:Crotone\, "La violenza a danno dei medici e degli operatori sanitari. Come prevenirla e gestirla"
DESCRIPTION:
URL:https://portale.fnomceo.it/eventi-fnomceo/crotone-la-violenza-a-danno-dei-medici-e-degli-operatori-sanitari-come-prevenirla-e-gestirla/
LOCATION:Comune di Crotone\, Piazza della Resistenza\, 1\, Crotone\, Italia
CATEGORIES:Eventi degli Ordini
GEO:39.0798926;17.1251757
X-APPLE-STRUCTURED-LOCATION;VALUE=URI;X-ADDRESS=Comune di Crotone Piazza della Resistenza 1 Crotone Italia;X-APPLE-RADIUS=500;X-TITLE=Piazza della Resistenza\, 1:geo:17.1251757,39.0798926
END:VEVENT
END:VCALENDAR