BEGIN:VCALENDAR
VERSION:2.0
PRODID:-//FNOMCeO - ECPv5.16.4//NONSGML v1.0//EN
CALSCALE:GREGORIAN
METHOD:PUBLISH
X-WR-CALNAME:FNOMCeO
X-ORIGINAL-URL:https://portale.fnomceo.it
X-WR-CALDESC:Eventi per FNOMCeO
BEGIN:VTIMEZONE
TZID:Europe/Rome
BEGIN:DAYLIGHT
TZOFFSETFROM:+0100
TZOFFSETTO:+0200
TZNAME:CEST
DTSTART:20180325T010000
END:DAYLIGHT
BEGIN:STANDARD
TZOFFSETFROM:+0200
TZOFFSETTO:+0100
TZNAME:CET
DTSTART:20181028T010000
END:STANDARD
END:VTIMEZONE
BEGIN:VEVENT
DTSTART;TZID=Europe/Rome:20181020T083000
DTEND;TZID=Europe/Rome:20181020T183000
DTSTAMP:20260425T212440
CREATED:20180830T130500Z
LAST-MODIFIED:20181005T095127Z
UID:35745-1540024200-1540060200@portale.fnomceo.it
SUMMARY:Omceo Salerno\, Simposio Internazionale "The Fire Within. Inflammation as a central mechanism connecting diet\, behaviour and chronic disease"
DESCRIPTION:Nell’ambito delle Giornate della Scuola Medica Salernitana 2018\, giunte alla XIX edizione\, sabato 20 ottobre 2019 presso il Grand Hotel Salerno avrà luogo il Simposio Internazionale dal titolo “The Fire Within. Inflammation as a central mechanism connecting diet\, behaviour and chronic disease”.
URL:https://portale.fnomceo.it/eventi-fnomceo/omceo-salerno-simposio-internazionale-the-fire-within-inflammation-as-a-central-mechanism-connecting-diet-behaviour-and-chronic-disease/
LOCATION:Grand Hotel Salerno\, Lungomare Clemente Tafuri\, 1\, Salerno\, Italia
CATEGORIES:Eventi degli Ordini,Formazione e aggiornamento
GEO:40.672515;14.7758768
X-APPLE-STRUCTURED-LOCATION;VALUE=URI;X-ADDRESS=Grand Hotel Salerno Lungomare Clemente Tafuri 1 Salerno Italia;X-APPLE-RADIUS=500;X-TITLE=Lungomare Clemente Tafuri\, 1:geo:14.7758768,40.672515
END:VEVENT
BEGIN:VEVENT
DTSTART;TZID=Europe/Rome:20181020T083000
DTEND;TZID=Europe/Rome:20181020T150000
DTSTAMP:20260425T212440
CREATED:20180907T130642Z
LAST-MODIFIED:20180907T130642Z
UID:35984-1540024200-1540047600@portale.fnomceo.it
SUMMARY:Varese\, “La luce laser in chirurgia e patologia orale: falsi miti e realtà”
DESCRIPTION:
URL:https://portale.fnomceo.it/eventi-fnomceo/varese-la-luce-laser-in-chirurgia-e-patologia-orale-falsi-miti-e-realta/
LOCATION:Omceo Varese\, Italia
CATEGORIES:Eventi degli Ordini,Formazione e aggiornamento
GEO:41.87194;12.56738
END:VEVENT
END:VCALENDAR