BEGIN:VCALENDAR
VERSION:2.0
PRODID:-//FNOMCeO - ECPv5.16.4//NONSGML v1.0//EN
CALSCALE:GREGORIAN
METHOD:PUBLISH
X-WR-CALNAME:FNOMCeO
X-ORIGINAL-URL:https://portale.fnomceo.it
X-WR-CALDESC:Eventi per FNOMCeO
BEGIN:VTIMEZONE
TZID:Europe/Rome
BEGIN:DAYLIGHT
TZOFFSETFROM:+0100
TZOFFSETTO:+0200
TZNAME:CEST
DTSTART:20180325T010000
END:DAYLIGHT
BEGIN:STANDARD
TZOFFSETFROM:+0200
TZOFFSETTO:+0100
TZNAME:CET
DTSTART:20181028T010000
END:STANDARD
END:VTIMEZONE
BEGIN:VEVENT
DTSTART;VALUE=DATE:20181026
DTEND;VALUE=DATE:20181029
DTSTAMP:20260425T212447
CREATED:20180713T135230Z
LAST-MODIFIED:20180713T135230Z
UID:34863-1540512000-1540771199@portale.fnomceo.it
SUMMARY:Aggiornamento in Medicina iperbarica\, fisiopatologia ed indicazioni cliniche
DESCRIPTION:Il corso Ecm si propone di stimolare la conoscenza di patologie ad etiologia disbaropatica suggerendo elementi diagnostici\, terapia medica\, indicazioni alla ossi-iperbaroterapia e/o alle terapie ricomprensibile\, richiamando nozioni di Fisica e di Fisiopatologia clinica che sono alla base della Medicina iperbarica. Il corso\, accreditato per medico\, chirurgo e infermiere\, riconosce 20 crediti Ecm.
URL:https://portale.fnomceo.it/eventi-fnomceo/aggiornamento-in-medicina-iperbarica-fisiopatologia-ed-indicazioni-cliniche/
LOCATION:Villa Magnisi\, Via Rosario da Partanna Padre\, 22\, Palermo\, Italia
CATEGORIES:Eventi degli Ordini,Formazione e aggiornamento
GEO:38.1705472;13.3234564
X-APPLE-STRUCTURED-LOCATION;VALUE=URI;X-ADDRESS=Villa Magnisi Via Rosario da Partanna Padre 22 Palermo Italia;X-APPLE-RADIUS=500;X-TITLE=Via Rosario da Partanna Padre\, 22:geo:13.3234564,38.1705472
END:VEVENT
END:VCALENDAR