BEGIN:VCALENDAR
VERSION:2.0
PRODID:-//FNOMCeO - ECPv5.16.4//NONSGML v1.0//EN
CALSCALE:GREGORIAN
METHOD:PUBLISH
X-WR-CALNAME:FNOMCeO
X-ORIGINAL-URL:https://portale.fnomceo.it
X-WR-CALDESC:Eventi per FNOMCeO
BEGIN:VTIMEZONE
TZID:Europe/Rome
BEGIN:DAYLIGHT
TZOFFSETFROM:+0100
TZOFFSETTO:+0200
TZNAME:CEST
DTSTART:20180325T010000
END:DAYLIGHT
BEGIN:STANDARD
TZOFFSETFROM:+0200
TZOFFSETTO:+0100
TZNAME:CET
DTSTART:20181028T010000
END:STANDARD
END:VTIMEZONE
BEGIN:VEVENT
DTSTART;TZID=Europe/Rome:20181116T143000
DTEND;TZID=Europe/Rome:20181116T170000
DTSTAMP:20260425T194857
CREATED:20181030T151048Z
LAST-MODIFIED:20181030T151048Z
UID:37351-1542378600-1542387600@portale.fnomceo.it
SUMMARY:Trieste\, corso ECM "L'omicidio stradale"
DESCRIPTION:Al medico ed all’odontoiatra sono sempre più richieste prestazioni che esulano dal mero tecnicismo professionale e\, spesso\, si tratta di obblighi a contenuto legalmente rilevante la cui inadempienza può comportare per il professionista\, ma anche per il paziente\, sanzioni e/o danni patrimoniali. La recente normativa sull’omicidio stradale aggiunge nuove responsabilità al sanitario in un terreno sovente a lui ostico se non specializzato in medicina legale\, responsabilità che si allargano proprio alla fetta meno preparata degli iscritti all’Ordine\, i colleghi che\, impegnati sul campo nella cura dei pazienti intercettano spesso situazioni come quella oggetto di aggiornamento e studio. Il corso\, effettuato con la partecipazione di avvocati ed operatori di pubblica sicurezza che integrano la docenza di colleghi esperti nella materia\, intende garantire ai partecipanti una informazione assolutamente aggiornata ed esaustiva su questo attuale argomento.
URL:https://portale.fnomceo.it/eventi-fnomceo/trieste-corso-ecm-lomicidio-stradale/
LOCATION:Omceo Trieste\, Piazza Goldoni\, n. 10\, Trieste\, Italia
CATEGORIES:Eventi degli Ordini,Formazione e aggiornamento
GEO:45.6500128;13.7772515
X-APPLE-STRUCTURED-LOCATION;VALUE=URI;X-ADDRESS=Omceo Trieste Piazza Goldoni n. 10 Trieste Italia;X-APPLE-RADIUS=500;X-TITLE=Piazza Goldoni\, n. 10:geo:13.7772515,45.6500128
END:VEVENT
END:VCALENDAR