BEGIN:VCALENDAR
VERSION:2.0
PRODID:-//FNOMCeO - ECPv5.16.4//NONSGML v1.0//EN
CALSCALE:GREGORIAN
METHOD:PUBLISH
X-WR-CALNAME:FNOMCeO
X-ORIGINAL-URL:https://portale.fnomceo.it
X-WR-CALDESC:Eventi per FNOMCeO
BEGIN:VTIMEZONE
TZID:Europe/Rome
BEGIN:DAYLIGHT
TZOFFSETFROM:+0100
TZOFFSETTO:+0200
TZNAME:CEST
DTSTART:20180325T010000
END:DAYLIGHT
BEGIN:STANDARD
TZOFFSETFROM:+0200
TZOFFSETTO:+0100
TZNAME:CET
DTSTART:20181028T010000
END:STANDARD
END:VTIMEZONE
BEGIN:VEVENT
DTSTART;TZID=Europe/Rome:20181117T083000
DTEND;TZID=Europe/Rome:20181117T180000
DTSTAMP:20260425T194847
CREATED:20181011T092944Z
LAST-MODIFIED:20181011T092944Z
UID:36814-1542443400-1542477600@portale.fnomceo.it
SUMMARY:Palermo\, "La prevenzione e la gestione delle cronicità: realtà attuale e prospettive"
DESCRIPTION:
URL:https://portale.fnomceo.it/eventi-fnomceo/palermo-la-prevenzione-e-la-gestione-delle-cronicita-realta-attuale-e-prospettive/
LOCATION:Villa Magnisi\, Via Rosario da Partanna Padre\, 22\, Palermo\, Italia
CATEGORIES:Eventi degli Ordini,Formazione e aggiornamento
GEO:38.1705472;13.3234564
X-APPLE-STRUCTURED-LOCATION;VALUE=URI;X-ADDRESS=Villa Magnisi Via Rosario da Partanna Padre 22 Palermo Italia;X-APPLE-RADIUS=500;X-TITLE=Via Rosario da Partanna Padre\, 22:geo:13.3234564,38.1705472
END:VEVENT
BEGIN:VEVENT
DTSTART;TZID=Europe/Rome:20181117T083000
DTEND;TZID=Europe/Rome:20181117T133000
DTSTAMP:20260425T194847
CREATED:20181023T094751Z
LAST-MODIFIED:20181023T094751Z
UID:37106-1542443400-1542461400@portale.fnomceo.it
SUMMARY:Brescia\, convegno "Buone prassi operative\, criticità ed esigenze di giustizia nella gestione delle vittime di violenza"
DESCRIPTION:
URL:https://portale.fnomceo.it/eventi-fnomceo/brescia-convegno-buone-prassi-operative-criticita-ed-esigenze-di-giustizia-nella-gestione-delle-vittime-di-violenza/
LOCATION:Omceo Brescia\, via Lamarmora 167\, Brescia\, Italia
CATEGORIES:Eventi degli Ordini
ORGANIZER;CN="OMCeO%20Brescia":MAILTO:ufficiostampa@ordinemedici.brescia.it
GEO:45.5215428;10.2127308
X-APPLE-STRUCTURED-LOCATION;VALUE=URI;X-ADDRESS=Omceo Brescia via Lamarmora 167 Brescia Italia;X-APPLE-RADIUS=500;X-TITLE=via Lamarmora 167:geo:10.2127308,45.5215428
END:VEVENT
BEGIN:VEVENT
DTSTART;TZID=Europe/Rome:20181117T083000
DTEND;TZID=Europe/Rome:20181117T133000
DTSTAMP:20260425T194847
CREATED:20181024T123935Z
LAST-MODIFIED:20181024T123935Z
UID:37137-1542443400-1542461400@portale.fnomceo.it
SUMMARY:Reggio Emilia\, "40° anniversario della nascita del SSN. Storia di un percorso e strategie di sostegno"
DESCRIPTION:Il 1978 viene ricordato per l’istituzione del Servizio Sanitario Nazionale\, grazie all’emanazione della legge 833\, che ha cambiato la vita di milioni di italiani e dei tanti professionisti della salute. Nello stesso anno sono state emanate altre due leggi di fondamentale importanza\, la legge 180\, meglio conosciuta come legge Basaglia\, che ha ridato dignità alla malattia psichiatrica\, e la legge 194\, ovvero le norme per la tutela sociale della maternità e sull’interruzione volontaria della gravidanza\, frutto di un’aspra battaglia sociale\, politica ed etica. Da allora sono passati 40 anni e ciò rende possibile fare un bilancio su quanto è stato realizzato e su quanto è rimasto incompiuto o addirittura viene\nora rimesso in discussione. Il convegno affronta questo bilancio partendo dalla visione storica del contesto sociale\, culturale e politico in cui hanno potuto prendere forma tre leggi così innovative. La discussione successiva si pone l’obiettivo di offrire spunti di riflessione sul loro presente e futuro\, a fronte dei grossi cambiamenti intervenuti nella società e nel mondo della medicina. \nINFORMAZIONI\nEvento rivolto a 100 partecipanti.\nLa partecipazione al Convegno è gratuita.\nSarà rilasciato attestato di partecipazione.\nLe iscrizioni si effettuano on line attraverso l’area riservata del sito dell’Ordine al link\nhttps://www.odmeo.re.it/reserved/it/login\nLe istruzioni per le iscrizioni sono visualizzabili alla pagina https://www.odmeo.re.it/istruzioni-per-iscrizione-ad-eventi-formativi-tramite-area-riservata-del-sito-omceo-re/ \nSi raccomanda di avvisare per tempo la Segreteria in caso di impossibilità a partecipare\, ricordando che\, se non verrà dato congruo preavviso\, sarà preclusa la partecipazione ai successivi due eventi organizzati. \nCrediti ECM n. 4 validi per Medici Chirurghi e per Odontoiatri. \nOBIETTIVO FORMATIVO NAZIONALE n. 17\n(Argomenti di carattere generale: informatica e lingua inglese scientifica di livello avanzato\, normativa in materia sanitaria: i principi etici e civili del SSN).
URL:https://portale.fnomceo.it/eventi-fnomceo/reggio-emilia-40-anniversario-della-nascita-del-ssn-storia-di-un-percorso-e-strategie-di-sostegno/
LOCATION:Auditorium Centro Internazionale Malaguzzi\, via Bligny 1/A\, Reggio Emilia\, Italia
CATEGORIES:Eventi degli Ordini,Formazione e aggiornamento
ATTACH;FMTTYPE=image/png:https://portale.fnomceo.it/wp-content/uploads/2018/10/Pieghevole17nov18-DEF_sito-2-1.png
GEO:44.7013029;10.6452121
X-APPLE-STRUCTURED-LOCATION;VALUE=URI;X-ADDRESS=Auditorium Centro Internazionale Malaguzzi via Bligny 1/A Reggio Emilia Italia;X-APPLE-RADIUS=500;X-TITLE=via Bligny 1/A:geo:10.6452121,44.7013029
END:VEVENT
BEGIN:VEVENT
DTSTART;TZID=Europe/Rome:20181117T083000
DTEND;TZID=Europe/Rome:20181117T133000
DTSTAMP:20260425T194847
CREATED:20181029T130811Z
LAST-MODIFIED:20181029T130811Z
UID:37303-1542443400-1542461400@portale.fnomceo.it
SUMMARY:Brescia\, "Buone prassi operative\, criticità ed esigenze di giustizia nella gestione delle vittime di violenza"
DESCRIPTION:
URL:https://portale.fnomceo.it/eventi-fnomceo/brescia-buone-prassi-operative-criticita-ed-esigenze-di-giustizia-nella-gestione-delle-vittime-di-violenza/
LOCATION:OMCeO Brescia\, via Lamarmora 167\, Brescia\, Italia
CATEGORIES:Eventi degli Ordini,Formazione e aggiornamento
ORGANIZER;CN="OMCeO%20Brescia":MAILTO:ufficiostampa@ordinemedici.brescia.it
GEO:45.5215428;10.2127308
X-APPLE-STRUCTURED-LOCATION;VALUE=URI;X-ADDRESS=OMCeO Brescia via Lamarmora 167 Brescia Italia;X-APPLE-RADIUS=500;X-TITLE=via Lamarmora 167:geo:10.2127308,45.5215428
END:VEVENT
END:VCALENDAR