BEGIN:VCALENDAR
VERSION:2.0
PRODID:-//FNOMCeO - ECPv5.16.4//NONSGML v1.0//EN
CALSCALE:GREGORIAN
METHOD:PUBLISH
X-WR-CALNAME:FNOMCeO
X-ORIGINAL-URL:https://portale.fnomceo.it
X-WR-CALDESC:Eventi per FNOMCeO
BEGIN:VTIMEZONE
TZID:Europe/Rome
BEGIN:DAYLIGHT
TZOFFSETFROM:+0100
TZOFFSETTO:+0200
TZNAME:CEST
DTSTART:20180325T010000
END:DAYLIGHT
BEGIN:STANDARD
TZOFFSETFROM:+0200
TZOFFSETTO:+0100
TZNAME:CET
DTSTART:20181028T010000
END:STANDARD
END:VTIMEZONE
BEGIN:VEVENT
DTSTART;TZID=Europe/Rome:20181207T150000
DTEND;TZID=Europe/Rome:20181207T190000
DTSTAMP:20260425T175456
CREATED:20181113T100808Z
LAST-MODIFIED:20181113T100808Z
UID:37767-1544194800-1544209200@portale.fnomceo.it
SUMMARY:Trieste\, "CTU e CTP\, competenze e doveri d'ufficio"
DESCRIPTION:Il corso è rivolto ai professionisti medici e odontoiatri che desiderano intraprendere l’attività di consulente tecnico e offre a coloro che già la svolgono approfondimenti specifici idonei anche a valorizzare il proprio curriculum.\nI professionisti avranno l’opportunità di fare propri e di approfondire i diversi aspetti dell’incarico\, gli obblighi\, la prassi e le metodologie pratiche di lavoro al fine di ottimizzare e rendere il più efficace possibile lo svolgimento dell’incarico.\nDurante il corso si affronteranno esemplificazioni elaborate dall’esperienza pratica nell’intento di perseguire gli esiti e il raggiungimento degli obiettivi del procedimento giudiziario.\nA seguito dell’introduzione che focalizza l’attività e le criticità possibili dal punto di vista del professionista seguiranno gli interventi che affronteranno gli obblighi e le responsabilità a cui sono chiamati nello svolgimento dell’incarico i professionisti medici ed odontoiatri\, l’attività specifica svolgenda dal CTU nella fase delle indagini preliminari disposte dalla Procura e l’efficacia degli elaborati peritali.
URL:https://portale.fnomceo.it/eventi-fnomceo/trieste-ctu-e-ctp-competenze-e-doveri-dufficio/
LOCATION:Omceo Trieste\, Piazza Goldoni\, n. 10\, Trieste\, Italia
CATEGORIES:Eventi degli Ordini,Formazione e aggiornamento
GEO:45.6500128;13.7772515
X-APPLE-STRUCTURED-LOCATION;VALUE=URI;X-ADDRESS=Omceo Trieste Piazza Goldoni n. 10 Trieste Italia;X-APPLE-RADIUS=500;X-TITLE=Piazza Goldoni\, n. 10:geo:13.7772515,45.6500128
END:VEVENT
END:VCALENDAR