BEGIN:VCALENDAR
VERSION:2.0
PRODID:-//FNOMCeO - ECPv5.16.4//NONSGML v1.0//EN
CALSCALE:GREGORIAN
METHOD:PUBLISH
X-WR-CALNAME:FNOMCeO
X-ORIGINAL-URL:https://portale.fnomceo.it
X-WR-CALDESC:Eventi per FNOMCeO
BEGIN:VTIMEZONE
TZID:Europe/Rome
BEGIN:DAYLIGHT
TZOFFSETFROM:+0100
TZOFFSETTO:+0200
TZNAME:CEST
DTSTART:20180325T010000
END:DAYLIGHT
BEGIN:STANDARD
TZOFFSETFROM:+0200
TZOFFSETTO:+0100
TZNAME:CET
DTSTART:20181028T010000
END:STANDARD
END:VTIMEZONE
BEGIN:VEVENT
DTSTART;TZID=Europe/Rome:20181215T083000
DTEND;TZID=Europe/Rome:20181215T133000
DTSTAMP:20260425T175454
CREATED:20181126T143847Z
LAST-MODIFIED:20181126T144002Z
UID:38083-1544862600-1544880600@portale.fnomceo.it
SUMMARY:Latina\, "Consenso informato e dichiarazione anticipata di trattamento: cosa sapere e cosa fare"
DESCRIPTION:PROGRAMMA   >>>   Mod.07-8.3 PROGR. AGENAS 20.11.18 \nhttp://www.ordinemedicilatina.it/events/consenso-informato-e-dichiarazione-anticipata-di-trattamento-cosa-sapere-e-cosa-fare/
URL:https://portale.fnomceo.it/eventi-fnomceo/latina-consenso-informato-e-dichiarazione-anticipata-di-trattamento-cosa-sapere-e-cosa-fare/
LOCATION:Sala Conferenze Ordine dei Medici Latina\, Piazza Angelo Celli 3\, Latina\, Italia
CATEGORIES:Eventi degli Ordini,Formazione e aggiornamento
ORGANIZER;CN="OMCeO%20Latina":MAILTO:info@ordinemedicilatina.it
GEO:41.4692763;12.9013937
X-APPLE-STRUCTURED-LOCATION;VALUE=URI;X-ADDRESS=Sala Conferenze Ordine dei Medici Latina Piazza Angelo Celli 3 Latina Italia;X-APPLE-RADIUS=500;X-TITLE=Piazza Angelo Celli 3:geo:12.9013937,41.4692763
END:VEVENT
END:VCALENDAR