BEGIN:VCALENDAR
VERSION:2.0
PRODID:-//FNOMCeO - ECPv5.16.4//NONSGML v1.0//EN
CALSCALE:GREGORIAN
METHOD:PUBLISH
X-WR-CALNAME:FNOMCeO
X-ORIGINAL-URL:https://portale.fnomceo.it
X-WR-CALDESC:Eventi per FNOMCeO
BEGIN:VTIMEZONE
TZID:Europe/Rome
BEGIN:DAYLIGHT
TZOFFSETFROM:+0100
TZOFFSETTO:+0200
TZNAME:CEST
DTSTART:20190331T010000
END:DAYLIGHT
BEGIN:STANDARD
TZOFFSETFROM:+0200
TZOFFSETTO:+0100
TZNAME:CET
DTSTART:20191027T010000
END:STANDARD
END:VTIMEZONE
BEGIN:VEVENT
DTSTART;TZID=Europe/Rome:20190125T090000
DTEND;TZID=Europe/Rome:20190125T190000
DTSTAMP:20260425T161859
CREATED:20190118T114025Z
LAST-MODIFIED:20190118T114025Z
UID:39064-1548406800-1548442800@portale.fnomceo.it
SUMMARY:Parma\, "Sicurezza degli operatori e nelle sedi di continuità assistenziale"
DESCRIPTION:Troppo spesso i mezzi di comunicazione portano all’evidenza una manifestazione di insofferenza\, da parte di una certa parte della popolazione\, in particolare nei confronti dei Medici di Continuità assistenziale\, dei Pronto Soccorso e dell’emergenza-urgenza territoriale\, con episodi di aggressione verbale e\, in casi fortunatamente meno frequenti\, anche di violenza fisica. L’entità di questo fenomeno preoccupa l’Ordine dei Medici che\, in accordo con la Federazione Nazionale degli Ordini dei Medici e degli Odontoiatri\, ha cercato di trovare strumenti di comunicazione che\, da un lato\, consentano una corretta informazione e\, dall’altro\, permettano di mostrare gli aspetti positivi dell’agire del medico nella quotidianità dell’urgenza e dell’emergenza. Si è voluta coinvolgere anche la Conferenza Territoriale Socio Sanitaria (CTSS) valutando un’azione comune\, forti del convincimento che gli eventi luttuosi di questi anni ci impongono non solo una seria presa di coscienza\, ma anche l’obbligo di prendere iniziative atte a tutelare l’integrità\, il decoro e l’autonomia decisionale dei professionisti\, che non possono essere ricattati o intimoriti durante l’espletamento del proprio compito. Pertanto\, con quest’evento\, ci si propone di far conoscere attraverso le esperienze maturate l’entità del fenomeno nel nostro interland\, portando all’attenzione anche i risultati di un’indagine effettuata tra i medici della continuità assistenziale. Una valutazione preliminare che sarà finalizzata ad attuare ogni iniziativa che agevoli il rapporto medico-paziente e allo contempo offra la garanzia di far lavorare i nostri medici in sicurezza e in serenità. \n\n  \n 
URL:https://portale.fnomceo.it/eventi-fnomceo/parma-sicurezza-degli-operatori-e-nelle-sedi-di-continuita-assistenziale/
LOCATION:Palazzo Soragna\, Str. Ponte Caprazucca 6/A\, Parma\, Italia
CATEGORIES:Eventi degli Ordini,Formazione e aggiornamento
GEO:44.7984989;10.3252447
X-APPLE-STRUCTURED-LOCATION;VALUE=URI;X-ADDRESS=Palazzo Soragna Str. Ponte Caprazucca 6/A Parma Italia;X-APPLE-RADIUS=500;X-TITLE=Str. Ponte Caprazucca 6/A:geo:10.3252447,44.7984989
END:VEVENT
END:VCALENDAR