BEGIN:VCALENDAR
VERSION:2.0
PRODID:-//FNOMCeO - ECPv5.16.4//NONSGML v1.0//EN
CALSCALE:GREGORIAN
METHOD:PUBLISH
X-WR-CALNAME:FNOMCeO
X-ORIGINAL-URL:https://portale.fnomceo.it
X-WR-CALDESC:Eventi per FNOMCeO
BEGIN:VTIMEZONE
TZID:Europe/Rome
BEGIN:DAYLIGHT
TZOFFSETFROM:+0100
TZOFFSETTO:+0200
TZNAME:CEST
DTSTART:20190331T010000
END:DAYLIGHT
BEGIN:STANDARD
TZOFFSETFROM:+0200
TZOFFSETTO:+0100
TZNAME:CET
DTSTART:20191027T010000
END:STANDARD
END:VTIMEZONE
BEGIN:VEVENT
DTSTART;TZID=Europe/Rome:20190924T190000
DTEND;TZID=Europe/Rome:20190924T233000
DTSTAMP:20260425T024151
CREATED:20190819T114620Z
LAST-MODIFIED:20190819T114647Z
UID:44380-1569351600-1569367800@portale.fnomceo.it
SUMMARY:Brescia\, Convegno: “Gli aneurismi dell'aorta addonimale (AAA)”
DESCRIPTION:Gli AAA sono patologia di grande diffusione nella popolazione\, quasi sempre asintomatici fino all’evento rottura che è tuttora gravata da una mortalità superiore all’80%\, a fronte di complicanze maggiori inferiori al 2% del trattamento pre-rottura. La diagnosi precoce\, il monitoraggio per gli AAA senza immediata indicazione all’intervento\, i rischi operatori e\, infine\, l’attuazione dei follow up postoperatori comportano numerose problematiche che sono sempre da condividere tra i Medici di Medicina Generale e le diverse figure di Specialisti che seguono più direttamente tale patologia. Alla luce delle attuali conoscenze\, scopo di questo Convegno è l’opportuno confronto diretto tra tutti questi professionisti.
URL:https://portale.fnomceo.it/eventi-fnomceo/brescia-convegno-gli-aneurismi-dellaorta-addonimale-aaa/
LOCATION:Omceo Brescia\, via Lamarmora 167\, Brescia\, Italia
CATEGORIES:Eventi degli Ordini,Formazione e aggiornamento
ORGANIZER;CN="OMCeO%20Brescia":MAILTO:ufficiostampa@ordinemedici.brescia.it
GEO:45.5215428;10.2127308
X-APPLE-STRUCTURED-LOCATION;VALUE=URI;X-ADDRESS=Omceo Brescia via Lamarmora 167 Brescia Italia;X-APPLE-RADIUS=500;X-TITLE=via Lamarmora 167:geo:10.2127308,45.5215428
END:VEVENT
END:VCALENDAR