BEGIN:VCALENDAR
VERSION:2.0
PRODID:-//FNOMCeO - ECPv5.16.4//NONSGML v1.0//EN
CALSCALE:GREGORIAN
METHOD:PUBLISH
X-WR-CALNAME:FNOMCeO
X-ORIGINAL-URL:https://portale.fnomceo.it
X-WR-CALDESC:Eventi per FNOMCeO
BEGIN:VTIMEZONE
TZID:Europe/Rome
BEGIN:DAYLIGHT
TZOFFSETFROM:+0100
TZOFFSETTO:+0200
TZNAME:CEST
DTSTART:20190331T010000
END:DAYLIGHT
BEGIN:STANDARD
TZOFFSETFROM:+0200
TZOFFSETTO:+0100
TZNAME:CET
DTSTART:20191027T010000
END:STANDARD
END:VTIMEZONE
BEGIN:VEVENT
DTSTART;TZID=Europe/Rome:20191025T080000
DTEND;TZID=Europe/Rome:20191026T170000
DTSTAMP:20260425T010223
CREATED:20190727T173525Z
LAST-MODIFIED:20190727T173525Z
UID:44138-1571990400-1572109200@portale.fnomceo.it
SUMMARY:Marina di Massa\, Convegno nazionale “Qualità e Umanizzazione: aver cura delle professioni di cura”
DESCRIPTION:Il macro obiettivo del Convegno “Qualità e Umanizzazione: aver cura delle professioni di cura” è riassumibile nell’acronimo PRO\, per mezzo del quale si intende evidenziare un’attenzione significativa a favore e a beneficio delle persone coinvolte nella relazione di cura e che tenga in considerazione i bisogni: Psicologici – Relazionali – Organici.\nScopo dell’evento è cominciare a sensibilizzare e trattare il tema delle cure in un’ottica patient centered\, prendendo in considerazione idee\, progetti\, approfondimenti\, esperienze concrete\, ricerche e apporti scientifici sensatamente utili a migliorare ed arricchire\, in una\nprospettiva sistemica\, la realtà di medici-pazienti-familiari.\nNel mare magnum delle discussioni sulla medicina centrata sul paziente e sul ruolo della ricerca sociale in questo campo\, l’ambizione e il desiderio è che gli spunti qui delineati forniscano alcune indicazioni iniziali per stimolarci a ragionare su un’agenda congiunta tra ricercatori\, professionisti\, decisori e pazienti.
URL:https://portale.fnomceo.it/eventi-fnomceo/marina-di-massa-convegno-nazionale-qualita-e-umanizzazione-aver-cura-delle-professioni-di-cura/
LOCATION:Centro Congressi Marina di Massa\, via S. Leonardo 492\, Marina di Massa\, Italia
CATEGORIES:Eventi degli Ordini,Formazione e aggiornamento
GEO:44.0097117;10.1009553
X-APPLE-STRUCTURED-LOCATION;VALUE=URI;X-ADDRESS=Centro Congressi Marina di Massa via S. Leonardo 492 Marina di Massa Italia;X-APPLE-RADIUS=500;X-TITLE=via S. Leonardo 492:geo:10.1009553,44.0097117
END:VEVENT
BEGIN:VEVENT
DTSTART;TZID=Europe/Rome:20191025T080000
DTEND;TZID=Europe/Rome:20191026T170000
DTSTAMP:20260425T010223
CREATED:20191021T130809Z
LAST-MODIFIED:20191021T130809Z
UID:46147-1571990400-1572109200@portale.fnomceo.it
SUMMARY:Palermo\, "Sanità militare: integrazione tra medici del Ssn e del comparto difesa e sicurezza"
DESCRIPTION:Conoscere l’attività dei medici militari e di tutti i professionisti civili che lavorano per il bene della collettività nel comparto della Difesa e della Sicurezza in modo da favorire la loro integrazione con i camici bianchi e il personale della sanità pubblica. Questo il tema al centro del Convegno nazionale di “Sanità militare: integrazione tra medici del Ssn e del comparto difesa e sicurezza”\, che si svolgerà dal 25 al 26 ottobre 2019\, a Villa Magnisi\, sede dell’Ordine dei medici di Palermo. \nL’appuntamento\, che vedrà la partecipazione dell’assessore regionale della Salute Ruggero Razza\, sarà presieduto dal presidente della Federazione nazionale degli Ordini dei medici (Fnomceo) Filippo Anelli e dal presidente dell’Omceo di Palermo Toti Amato\, con la responsabilità scientifica del vice presidente dell’Omceo di Bari\, nonché coordinatore del gruppo di lavoro di sanità militare e delegato per il settore della Fnomceo. \nQuello della Difesa e Sicurezza è un comparto delicato e specialistico\, poco conosciuto per la qualità e l’entità delle attività svolte anche nell’ambito della cooperazione internazionale. A fare il punto\, numerosi esperti e autorità militari e civili\, che illustreranno l’attività e gli aspetti su cui è necessario riflettere per individuare nuove linee di intervento utili all’integrazione tra professionisti militari e civili. \nGli argomenti saranno ulteriormente approfonditi durante le tavole rotonde affinché dallo scambio delle esperienze fra le parti possano nascere percorsi condivisi\, anche in ambito formativo\, per il bene dei cittadini.
URL:https://portale.fnomceo.it/eventi-fnomceo/palermo-sanita-militare-integrazione-tra-medici-del-ssn-e-del-comparto-difesa-e-sicurezza/
LOCATION:Palermo\, Villa Magnisi\, Via Rosario da Partanna Padre\, 22\, Palermo\, 90146\, Italia
CATEGORIES:Eventi degli Ordini,Formazione e aggiornamento
GEO:38.1705472;13.3234564
X-APPLE-STRUCTURED-LOCATION;VALUE=URI;X-ADDRESS=Palermo Villa Magnisi Via Rosario da Partanna Padre 22 Palermo 90146 Italia;X-APPLE-RADIUS=500;X-TITLE=Via Rosario da Partanna Padre\, 22:geo:13.3234564,38.1705472
END:VEVENT
BEGIN:VEVENT
DTSTART;TZID=Europe/Rome:20191025T140000
DTEND;TZID=Europe/Rome:20191025T203000
DTSTAMP:20260425T010223
CREATED:20190905T112019Z
LAST-MODIFIED:20190905T112019Z
UID:44747-1572012000-1572035400@portale.fnomceo.it
SUMMARY:Trieste\, Corso BLS (Basic Life Support) healthcare provider con utilizzo dell'aed per adulto\, bambino e infante
DESCRIPTION:Il corso si propone di fornire ai partecipanti le nozioni e le abilità necessarie per svolgere il proprio ruolo professionale nell’attività di supporto vitale di base e di defibrillazione in attesa del team di supporto avanzato. Questo per garantire il miglior grado di successo in termini di sopravvivenza nei casi di arresto cardiorespiratorio (ACR). Per quanto riguarda le nozioni teoriche l’apprendimento viene affidato ai partecipanti prima che frequentino l’aula fornendo loro il testo ufficiale American Heart Association BLS per operatori sanitari in modo da dedicare il maggior tempo possibile alle attività di addestramento. L’addestramento al BLS deve permettere un apprendimento veloce di manovre corrette ed efficaci\, standardizzate in modo da garantire il massimo coordinamento tra tutti i potenziali soccorritori\, sulla base di linee guida internazionali di Rianimazione Cardiopolmonare (CPR). Le linee guida sono scaricabili dal sito www.circulationaha.org. \nIl corso\, indirizzato prevalentemente al personale operante in Area Critica\, è corredato da certificazione internazionalmente riconosciuta e si avvale delle più attuali modalità didattiche.
URL:https://portale.fnomceo.it/eventi-fnomceo/trieste-corso-bls-basic-life-support-healthcare-provider-con-utilizzo-dellaed-per-adulto-bambino-e-infante-3/
LOCATION:Trieste\, Centro di Formazione Emergenza ASUITS\, Via Lodovico Mauroner\, 2\, Trieste\, Italia
CATEGORIES:Eventi degli Ordini,Formazione e aggiornamento
GEO:45.6604831;13.7717963
X-APPLE-STRUCTURED-LOCATION;VALUE=URI;X-ADDRESS=Trieste Centro di Formazione Emergenza ASUITS Via Lodovico Mauroner 2 Trieste Italia;X-APPLE-RADIUS=500;X-TITLE=Via Lodovico Mauroner\, 2:geo:13.7717963,45.6604831
END:VEVENT
END:VCALENDAR