BEGIN:VCALENDAR
VERSION:2.0
PRODID:-//FNOMCeO - ECPv5.16.4//NONSGML v1.0//EN
CALSCALE:GREGORIAN
METHOD:PUBLISH
X-WR-CALNAME:FNOMCeO
X-ORIGINAL-URL:https://portale.fnomceo.it
X-WR-CALDESC:Eventi per FNOMCeO
BEGIN:VTIMEZONE
TZID:Europe/Rome
BEGIN:DAYLIGHT
TZOFFSETFROM:+0100
TZOFFSETTO:+0200
TZNAME:CEST
DTSTART:20190331T010000
END:DAYLIGHT
BEGIN:STANDARD
TZOFFSETFROM:+0200
TZOFFSETTO:+0100
TZNAME:CET
DTSTART:20191027T010000
END:STANDARD
END:VTIMEZONE
BEGIN:VEVENT
DTSTART;TZID=Europe/Rome:20191105T190000
DTEND;TZID=Europe/Rome:20191105T233000
DTSTAMP:20260424T233041
CREATED:20191031T135528Z
LAST-MODIFIED:20191031T135528Z
UID:46391-1572980400-1572996600@portale.fnomceo.it
SUMMARY:Brescia\, "Il suo dottore si è vaccinato?"
DESCRIPTION:Cod. evento: 277945\nPeriodo iscrizione: dal 8/10/2019 al 30/10/2019\nDurata: 4(h)\nCrediti: 5\,2\nN° partecipanti: 100\nObiettivo formativo: 20 – Tematiche speciali del S.S.N. e/o S.S.R. a carattere urgente e/o straordinario individuate dalla Commissione Nazionale per la Formazione Continua e dalle regioni/province autonome per far fronte a specifiche emergenze sanitarie con acquisizione di nozioni di tecnico-professionali\nArea di competenza: OBIETTIVO FORMATIVO TECNICO-PROFESSIONALI\nNote: Sono concessi 5\,2 crediti ECM per 100 partecipanti totali tra cui: 60 MEDICI CHIRURGHI di tutte le discipline\, 20 ODONTOIATRI\, 10 FARMACISTI e 10 INFERMIERI\nCodice edizione: 1\nOrganizzatore: 1019\nAccreditatore: Commissione Nazionale
URL:https://portale.fnomceo.it/eventi-fnomceo/brescia-il-suo-dottore-si-e-vaccinato/
LOCATION:OMCeO Brescia\, via Lamarmora 167\, Brescia\, Italia
CATEGORIES:Eventi degli Ordini,Formazione e aggiornamento
ORGANIZER;CN="OMCeO%20Brescia":MAILTO:ufficiostampa@ordinemedici.brescia.it
GEO:45.5215428;10.2127308
X-APPLE-STRUCTURED-LOCATION;VALUE=URI;X-ADDRESS=OMCeO Brescia via Lamarmora 167 Brescia Italia;X-APPLE-RADIUS=500;X-TITLE=via Lamarmora 167:geo:10.2127308,45.5215428
END:VEVENT
END:VCALENDAR