BEGIN:VCALENDAR
VERSION:2.0
PRODID:-//FNOMCeO - ECPv5.16.4//NONSGML v1.0//EN
CALSCALE:GREGORIAN
METHOD:PUBLISH
X-WR-CALNAME:FNOMCeO
X-ORIGINAL-URL:https://portale.fnomceo.it
X-WR-CALDESC:Eventi per FNOMCeO
BEGIN:VTIMEZONE
TZID:Europe/Rome
BEGIN:DAYLIGHT
TZOFFSETFROM:+0100
TZOFFSETTO:+0200
TZNAME:CEST
DTSTART:20190331T010000
END:DAYLIGHT
BEGIN:STANDARD
TZOFFSETFROM:+0200
TZOFFSETTO:+0100
TZNAME:CET
DTSTART:20191027T010000
END:STANDARD
END:VTIMEZONE
BEGIN:VEVENT
DTSTART;TZID=Europe/Rome:20191115T080000
DTEND;TZID=Europe/Rome:20191116T180000
DTSTAMP:20260424T231657
CREATED:20191105T105451Z
LAST-MODIFIED:20191105T105451Z
UID:46452-1573804800-1573927200@portale.fnomceo.it
SUMMARY:Bologna\, VI° Forum della Professione Ortognatodontica - Cambio Passo Digitale: Questa è Realtà! Il Laboratorio delle Idee
DESCRIPTION:Anche quest’anno torna a Bologna il FORUM della professione Ortognatodontica\, appuntamento organizzato da SUSO fortemente voluto dal presidente Gianvito Chiarello in collaborazione di ORTEC e SIBOS.\nIl pomeriggio del venerdì grazie a Daniela Garbo presidente SIBOS il corso precongressuale dal titolo “Il canino incluso\, predicibilità e modalità di eruzione\, terapia e rispetto del parodonto\, dall’inclusione all’inserimento in arcata”.\nLa giornata del sabato congressuale\, si articola con tanti relatori di fama nazionale\, che unitamente ai nostri tecnici di Ortognatodonzia della ORTEC presidente Massimo Cicatiello\, ci mostrano come la nostra professione è realmente mutata con un Cambio Passo verso il Digitale.\nQuesta realtà comporta quotidianamente\, modelli organizzativi e gestionali completamente rivisitati e performanti in materia di velocità\, logistica\, e precisione.\nObiettivo del Forum SUSO è portare formazione al professionista\, anche in campo legale\, medico legale\, fiscale e giuridico amministrativo.\nGrande attenzione nel Forum SUSO alle assistenti\, con la presentazione di uno sportello “SUSOASSIST”\, la realizzazione di un corso dal titolo “Assistente di studio odontoiatrico ASO” per chiarire il ruolo professionale e giuridico.\nTutti questi ingredienti nella cornice della splendida Bologna\, fanno di questo evento un momento particolarmente interessante.
URL:https://portale.fnomceo.it/eventi-fnomceo/bologna-vi-forum-della-professione-ortognatodontica-cambio-passo-digitale-questa-e-realta-il-laboratorio-delle-idee/
LOCATION:AC Hotel Marriott\, Bologna\, Via Sebastiano Serlio n. 28\, Bologna\, 40128\, Italia
CATEGORIES:Eventi degli Ordini,Formazione e aggiornamento
GEO:44.5082646;11.353581
X-APPLE-STRUCTURED-LOCATION;VALUE=URI;X-ADDRESS=AC Hotel Marriott Bologna Via Sebastiano Serlio n. 28 Bologna 40128 Italia;X-APPLE-RADIUS=500;X-TITLE=Via Sebastiano Serlio n. 28:geo:11.353581,44.5082646
END:VEVENT
BEGIN:VEVENT
DTSTART;TZID=Europe/Rome:20191116T080000
DTEND;TZID=Europe/Rome:20191116T170000
DTSTAMP:20260424T231657
CREATED:20191002T095357Z
LAST-MODIFIED:20191114T144350Z
UID:45556-1573891200-1573923600@portale.fnomceo.it
SUMMARY:Padova\, “III modulo della Scuola di Comunicazione in Ambito Sanitario”
DESCRIPTION:I medici\, sempre di più sono esposti a situazioni conflittuali che a volte sfociano in forme di violenze relazionali difficili da contenere e da gestire.\n“Come siamo arrivati a tutto ciò? E Come si sarebbe potuto evitare?” Sono domande che spesso ci facciamo quando\, nostro malgrado\, siamo coinvolti in situazioni conflittuali che rasentano la violenza.\nFarci queste domande non solo è lecito\, ma è fondamentale\, perché per gestire il conflitto e prevenire la violenza è importante capire cosa sta succedendo e come utilizzare al meglio le nostre risorse. \nObiettivo Generale\nIl modulo\, si propone di fornire strumenti concreti per favorire l’acquisizione di abilità comunicativo- relazionali che consentano ai professionisti medici di governare la complessità delle comunicazioni e delle relazioni di cura anche quando la cornice in cui si svolgono è improntata ad aggressività e conflitto.
URL:https://portale.fnomceo.it/eventi-fnomceo/padova-iii-modulo-della-scuola-di-comunicazione-in-ambito-sanitario/2019-11-16/
LOCATION:Omceo Padova\, Via S. Prosdocimo\, 6\, Padova\, Italia
CATEGORIES:Eventi degli Ordini,Formazione e aggiornamento
GEO:45.4069396;11.8672334
X-APPLE-STRUCTURED-LOCATION;VALUE=URI;X-ADDRESS=Omceo Padova Via S. Prosdocimo 6 Padova Italia;X-APPLE-RADIUS=500;X-TITLE=Via S. Prosdocimo\, 6:geo:11.8672334,45.4069396
END:VEVENT
BEGIN:VEVENT
DTSTART;TZID=Europe/Rome:20191116T080000
DTEND;TZID=Europe/Rome:20191116T170000
DTSTAMP:20260424T231657
CREATED:20191104T143110Z
LAST-MODIFIED:20191113T115842Z
UID:46444-1573891200-1573923600@portale.fnomceo.it
SUMMARY:Benevento\, “La dignità del medico tra autonomia\, libertà e responsabilità: a quale prezzo”
DESCRIPTION:L’evento è accreditato per 99 partecipanti Medici-Odontoiatri.\nL’iscrizione è gratuita e può essere effettuata esclusivamente sul sito web www.ordinemedicibenevento.it
URL:https://portale.fnomceo.it/eventi-fnomceo/benevento-la-dignita-del-medico-a-quale-prezzo/
LOCATION:Benevento\, Auditorium G. D’Alessandro – OMCeO Benevento\, viale Mellusi 168\, Benevento\, Italia
CATEGORIES:Eventi degli Ordini,Formazione e aggiornamento
GEO:41.1237929;14.7958667
X-APPLE-STRUCTURED-LOCATION;VALUE=URI;X-ADDRESS=Benevento Auditorium G. D’Alessandro – OMCeO Benevento viale Mellusi 168 Benevento Italia;X-APPLE-RADIUS=500;X-TITLE=viale Mellusi 168:geo:14.7958667,41.1237929
END:VEVENT
END:VCALENDAR