BEGIN:VCALENDAR
VERSION:2.0
PRODID:-//FNOMCeO - ECPv5.16.4//NONSGML v1.0//EN
CALSCALE:GREGORIAN
METHOD:PUBLISH
X-WR-CALNAME:FNOMCeO
X-ORIGINAL-URL:https://portale.fnomceo.it
X-WR-CALDESC:Eventi per FNOMCeO
BEGIN:VTIMEZONE
TZID:Europe/Rome
BEGIN:DAYLIGHT
TZOFFSETFROM:+0100
TZOFFSETTO:+0200
TZNAME:CEST
DTSTART:20200329T010000
END:DAYLIGHT
BEGIN:STANDARD
TZOFFSETFROM:+0200
TZOFFSETTO:+0100
TZNAME:CET
DTSTART:20201025T010000
END:STANDARD
END:VTIMEZONE
BEGIN:VEVENT
DTSTART;TZID=Europe/Rome:20200207T140000
DTEND;TZID=Europe/Rome:20200207T180000
DTSTAMP:20260424T180408
CREATED:20200131T111337Z
LAST-MODIFIED:20200131T111337Z
UID:48212-1581084000-1581098400@portale.fnomceo.it
SUMMARY:Torino\, “Quali materiali scegliere in protesi fissa?”
DESCRIPTION:La CAO nazionale\, nell’ambito dell’intensa attività promozionale culturale e della collaborazione con le più importanti Società Scientifiche italiane\, promuove il progetto nazionale “Quali materiali scegliere in protesi fissa?”\, ideato e realizzato con l’Accademia Italiana di Odontoiatria Protesica. \nIl progetto ha la finalità di divulgare agli odontoiatri informazioni scientificamente corrette\, indipendenti e validate dall’esperienza clinica dei soci attivi dell’Accademia\, in merito alla corretta scelta dei materiali in protesi fissa\, anche alla luce delle nuove regolamentazioni europee sui dispositivi medici e al fine esclusivo di tutelare la salute del cittadino/paziente.
URL:https://portale.fnomceo.it/eventi-fnomceo/torino-quali-materiali-scegliere-in-protesi-fissa/
LOCATION:Torino\, villa Raby\, Corso Francia\, 8\, Torino\, 10143\, Italia
CATEGORIES:Eventi degli Ordini,Formazione e aggiornamento
GEO:45.0767147;7.666043
X-APPLE-STRUCTURED-LOCATION;VALUE=URI;X-ADDRESS=Torino villa Raby Corso Francia 8 Torino 10143 Italia;X-APPLE-RADIUS=500;X-TITLE=Corso Francia\, 8:geo:7.666043,45.0767147
END:VEVENT
END:VCALENDAR