BEGIN:VCALENDAR
VERSION:2.0
PRODID:-//FNOMCeO - ECPv5.16.4//NONSGML v1.0//EN
CALSCALE:GREGORIAN
METHOD:PUBLISH
X-WR-CALNAME:FNOMCeO
X-ORIGINAL-URL:https://portale.fnomceo.it
X-WR-CALDESC:Eventi per FNOMCeO
BEGIN:VTIMEZONE
TZID:Europe/Rome
BEGIN:DAYLIGHT
TZOFFSETFROM:+0100
TZOFFSETTO:+0200
TZNAME:CEST
DTSTART:20200329T010000
END:DAYLIGHT
BEGIN:STANDARD
TZOFFSETFROM:+0200
TZOFFSETTO:+0100
TZNAME:CET
DTSTART:20201025T010000
END:STANDARD
END:VTIMEZONE
BEGIN:VEVENT
DTSTART;TZID=Europe/Rome:20200307T080000
DTEND;TZID=Europe/Rome:20200307T150000
DTSTAMP:20260424T160838
CREATED:20200227T143055Z
LAST-MODIFIED:20200227T143055Z
UID:48919-1583568000-1583593200@portale.fnomceo.it
SUMMARY:Macerata\, “Pubblicità Sanitaria\, ECM\, Autorizzazioni\, Direzione Sanitaria”
DESCRIPTION:Il congresso si prefigge diversi obiettivi fondamentali per l’attività professionale del medico odontoiatra. Saranno presentate le novità nell’ambito della formazione continua (ECM) affinché il professionista\, oltre ad assolvere ad un obbligo deontologico\, possa aggiornarsi su conoscenze e competenze\, senza conflitti di interesse\, nella maniera più semplice ed efficace possibile. Un altro obiettivo dell’incontro è quello di chiarire regole ed adempimenti relativi alle autorizzazioni sanitarie. Inoltre si focalizzerà l’attenzione su Informazione – Pubblicità Sanitaria\, approfondendo i nuovi requisiti normativi e gli aspetti deontologici. Infine si analizzeranno i vantaggi e i limiti relativi alla direzione sanitaria in ambito odontoiatrico.
URL:https://portale.fnomceo.it/eventi-fnomceo/macerata-pubblicita-sanitaria-ecm-autorizzazioni-direzione-sanitaria/
LOCATION:OMCeO Macerata\, via F. Palmieri\, 6\, Macerata\, 62100\, Italia
CATEGORIES:Eventi degli Ordini,Formazione e aggiornamento
GEO:43.2993155;13.4336697
X-APPLE-STRUCTURED-LOCATION;VALUE=URI;X-ADDRESS=OMCeO Macerata via F. Palmieri 6 Macerata 62100 Italia;X-APPLE-RADIUS=500;X-TITLE=via F. Palmieri\, 6:geo:13.4336697,43.2993155
END:VEVENT
BEGIN:VEVENT
DTSTART;TZID=Europe/Rome:20200307T083000
DTEND;TZID=Europe/Rome:20200307T133000
DTSTAMP:20260424T160838
CREATED:20200213T152344Z
LAST-MODIFIED:20200213T152344Z
UID:48453-1583569800-1583587800@portale.fnomceo.it
SUMMARY:Olbia\, Evento ECM “Obesità’ 2.0 - II giornata medica dell'obesità”
DESCRIPTION:Tipologia evento\nCorso residenziale n. 2603 – 290060 Edizione n. 1 \nCrediti E.C.M.\nN. 4 \nProfessione accreditata\nMedico Chirurgo\, Odontoiatra \nDiscipline\nInterdisciplinare \nNumero partecipanti\nN. 49 \nObiettivo\nArea – Obiettivo formativo tecnico-professionale\nN. 23 – Sicurezza e igiene alimentari\, nutrizione e/o patologie correlate \nAcquisizione Crediti\nPresenza dell’interessato documentata per almeno il 90% della durata dell’evento.\nSi dovrà rispondere correttamente almeno al 75% del questionario apprendimento ECM e compilare le schede di valutazione di gradimento \nResposabile scientifico \nDott. Francesco Tolu\nProfessione non accreditata\nInfermiere (verrà rilasciato l’attestato di partecipazione senza crediti formativi) \nCosto evento\nEVENTO GRATUITO \nIscrizione online
URL:https://portale.fnomceo.it/eventi-fnomceo/olbia-evento-ecm-obesita-2-0-ii-giornata-medica-dellobesita/
LOCATION:Olbia\, Hotel Doubletree by Hilton\, Via Isarco 5/7\, Olbia\, 07026\, Italia
CATEGORIES:Eventi degli Ordini,Formazione e aggiornamento
ORGANIZER;CN="OMCeO%20Sassari":MAILTO:ordine@omceoss.org
GEO:40.9319696;9.5039149
X-APPLE-STRUCTURED-LOCATION;VALUE=URI;X-ADDRESS=Olbia Hotel Doubletree by Hilton Via Isarco 5/7 Olbia 07026 Italia;X-APPLE-RADIUS=500;X-TITLE=Via Isarco 5/7:geo:9.5039149,40.9319696
END:VEVENT
END:VCALENDAR