BEGIN:VCALENDAR
VERSION:2.0
PRODID:-//FNOMCeO - ECPv5.16.4//NONSGML v1.0//EN
CALSCALE:GREGORIAN
METHOD:PUBLISH
X-WR-CALNAME:FNOMCeO
X-ORIGINAL-URL:https://portale.fnomceo.it
X-WR-CALDESC:Eventi per FNOMCeO
BEGIN:VTIMEZONE
TZID:Europe/Rome
BEGIN:DAYLIGHT
TZOFFSETFROM:+0100
TZOFFSETTO:+0200
TZNAME:CEST
DTSTART:20220327T010000
END:DAYLIGHT
BEGIN:STANDARD
TZOFFSETFROM:+0200
TZOFFSETTO:+0100
TZNAME:CET
DTSTART:20221030T010000
END:STANDARD
END:VTIMEZONE
BEGIN:VEVENT
DTSTART;TZID=Europe/Rome:20220319T080000
DTEND;TZID=Europe/Rome:20220319T170000
DTSTAMP:20260423T020607
CREATED:20220307T161150Z
LAST-MODIFIED:20220307T161150Z
UID:64285-1647676800-1647709200@portale.fnomceo.it
SUMMARY:Latina\, Good doctor - Secondo seminario dell’Ordine “Intervento diagnostico terapeutico per pazienti non collaborativi: il paziente autistico e la sua famiglia incontrano l’oculista e l’otorino
DESCRIPTION:19 MARZO 2022 \nGood doctor. Secondo seminario dell’Ordine “Intervento diagnostico terapeutico per pazienti non collaborativi: il paziente autistico e la sua famiglia incontrano l’oculista e l’otorino \n\nProsegue con successo il Progetto dell’Ordine dei Medici di Latina\, in collaborazione con l’Associazione “Latinautismo” denominato GOOD DOCTOR che ha come obiettivo quello di individuare in provincia professionisti competenti nell’accogliere e trattare “persone fragili”.
URL:https://portale.fnomceo.it/eventi-fnomceo/latina-good-doctor-secondo-seminario-dellordine-intervento-diagnostico-terapeutico-per-pazienti-non-collaborativi-il-paziente-autistico-e-la-sua-famiglia-incontrano-locu/
LOCATION:Latina\, Curia Vescovile\, Piazza Paolo VI\, Latina\, Italia
CATEGORIES:Eventi degli Ordini,Formazione e aggiornamento
ORGANIZER;CN="OMCeO%20Latina":MAILTO:info@ordinemedicilatina.it
GEO:41.4553262;12.9089952
X-APPLE-STRUCTURED-LOCATION;VALUE=URI;X-ADDRESS=Latina Curia Vescovile Piazza Paolo VI Latina Italia;X-APPLE-RADIUS=500;X-TITLE=Piazza Paolo VI:geo:12.9089952,41.4553262
END:VEVENT
BEGIN:VEVENT
DTSTART;TZID=Europe/Rome:20220319T083000
DTEND;TZID=Europe/Rome:20220319T140000
DTSTAMP:20260423T020607
CREATED:20220223T140640Z
LAST-MODIFIED:20220316T161220Z
UID:64082-1647678600-1647698400@portale.fnomceo.it
SUMMARY:Varese\, “Gestione e controllo dell’Emostasi in Odontoiatria”
DESCRIPTION:Primo evento del programma culturale CAO 2022 \nGli eventi si terranno presso: Sala Conferenze Granero-Porati\, via Dunant 3\, Varese \n\nLa partecipazione all’evento è gratuita con obbligo di iscrizione attraverso il portale al link: www.omceovarese.it\nIscrizioni consentite fino al raggiungimento della capienza massima di 80 posti
URL:https://portale.fnomceo.it/eventi-fnomceo/varese-gestione-e-controllo-dellemostasi-in-odontoiatria/
LOCATION:Varese\, Università degli Studi dell’Insubria\, Via Dunant\, 3\, Varese\, 21100\, Italia
CATEGORIES:Eventi degli Ordini,Formazione e aggiornamento
ORGANIZER;CN="OMCeO%20Varese":MAILTO:info@omceovarese.it
GEO:45.8143919;8.8277514
X-APPLE-STRUCTURED-LOCATION;VALUE=URI;X-ADDRESS=Varese Università degli Studi dell’Insubria Via Dunant 3 Varese 21100 Italia;X-APPLE-RADIUS=500;X-TITLE=Via Dunant\, 3:geo:8.8277514,45.8143919
END:VEVENT
END:VCALENDAR